BEGIN:VCALENDAR
PRODID:-//Grails iCalendar plugin//NONSGML Grails iCalendar plugin//EN
VERSION:2.0
CALSCALE:GREGORIAN
METHOD:PUBLISH
BEGIN:VEVENT
DTSTAMP:20260423T000147Z
DTSTART;TZID=Europe/London:20260515T090000
DTEND;TZID=Europe/London:20260516T170000
SUMMARY:Grains of Sand & Stars in the Sky: Science and Theology from the microscopic to the cosmic
UID:20260428T031336Z-iCalPlugin-Grails@philevents-web-6b96c54f56-bljdq
TZID:Europe/London
DESCRIPTION:<p>From the moment early microscopes unveiled a hidden world of exquisite complexity in the 16th century\, and the first telescopes revealed the vast splendour of the heavens in the 17th\, scientific discovery has continually expanded our sense of wonder. Each new window into the natural world has brought not only advances in knowledge but also profound theological and philosophical questions.</p>\n<p>Today\, the sciences continue to push the boundaries of the observable&mdash\;from the subatomic realm to the furthest edges of the cosmos. These explorations invite renewed reflection on creation\, purpose\, and the place of humanity within an ever‑deepening picture of reality. They also open fresh opportunities for constructive dialogue between scientific inquiry and religious thought.</p>\n<p>This conference will explore how contemporary understandings of both the minute and the immense prompt theological engagement\, shape religious imagination\, and offer new possibilities for integrating scientific insight with faith traditions. Bringing together scholars from diverse disciplines\, we will examine how science and religion can meaningfully converse in light of discoveries that challenge\, enrich\, and inspire.</p>\n\n<p>Approximate running times BST (tbc):</p>\n<p>15th May: 12noon - 5pm (conference) Gowland Lecture (7:30 tbc)</p>\n<p>16th May: 9am - 2pm</p>\n
ORGANIZER;CN=Finley Lawson:
METHOD:PUBLISH
END:VEVENT
END:VCALENDAR
