BEGIN:VCALENDAR
PRODID:-//Grails iCalendar plugin//NONSGML Grails iCalendar plugin//EN
VERSION:2.0
CALSCALE:GREGORIAN
METHOD:PUBLISH
BEGIN:VEVENT
DTSTAMP:20260422T232648Z
DTSTART;TZID=Europe/London:20260911T090000
DTEND;TZID=Europe/London:20260912T170000
SUMMARY:Foundations in Science and Religion: Boundaries of Theory & Practice
UID:20260428T022800Z-iCalPlugin-Grails@philevents-web-6b96c54f56-bljdq
TZID:Europe/London
DESCRIPTION:<p>Dates TBC\; CFP open</p>\n<p>The "Foundations" Conference is The Forum's dedicated space for early‑career researchers exploring the rich\, complex intersections between scientific inquiry and religious thought. This event provides an intellectually supportive environment where emerging scholars can develop foundational skills\, exchange ideas\, and engage critically with the theoretical and practical dimensions of the field. This conference explores the dynamic and sometimes contested borders between scientific understanding and religious interpretation\, asking how these two influential domains shape&mdash\; and are shaped by&mdash\; one another in contemporary thought and practice.</p>\n<p>As scientific knowledge expands and religious traditions continue to evolve\, questions emerge about where boundaries should be drawn\, how they shift\, and what happens when they overlap. This conference examines these issues through interdisciplinary lenses\, bringing together voices from theology\, philosophy\, history\, the natural and social sciences\, and professional practice. By focusing on the boundaries of theory and practice\, this event aims not only to map the current landscape of science and religion studies but also to empower the next generation of scholars to shape its future.</p>\n<p>Approximate running times BST (tbc):</p>\n<p>Day 1: 10am-4pm</p>\n<p>Day 2: 10am-4pm</p>
ORGANIZER;CN=Finley Lawson:
METHOD:PUBLISH
END:VEVENT
END:VCALENDAR
