BEGIN:VCALENDAR
PRODID:-//Grails iCalendar plugin//NONSGML Grails iCalendar plugin//EN
VERSION:2.0
CALSCALE:GREGORIAN
METHOD:PUBLISH
BEGIN:VEVENT
DTSTAMP:20260423T010628Z
DTSTART;TZID=Europe/London:20260801T090000
DTEND;TZID=Europe/London:20260801T090000
SUMMARY:Foundations in Science and Religion: Boundaries of Theory & Practice
UID:20260428T055641Z-iCalPlugin-Grails@philevents-web-6b96c54f56-bljdq
TZID:Europe/London
DESCRIPTION:<p>Conference Dates TBC\; CFP open (deadline may move later in August dependent on conference dates)</p>\n<p>The "Foundations" Conference is The Forum's dedicated space for early‑career researchers exploring the rich\, complex intersections between scientific inquiry and religious thought. This event provides an intellectually supportive environment where emerging scholars can develop foundational skills\, exchange ideas\, and engage critically with the theoretical and practical dimensions of the field. This conference explores the dynamic and sometimes contested borders between scientific understanding and religious interpretation\, asking how these two influential domains shape&mdash\; and are shaped by&mdash\; one another in contemporary thought and practice.</p>\n<p>We welcome submissions which engage with other issues at the intersection of natural and/or social science science and (any) religion. Whilst continuing to value the Christian origins of the Forum\, we particularly welcome papers that engage with science and religion from Eastern Orthodox\, and non-Christian perspectives which are historically under-represented at our conferences.</p>\n<p>Key questions guiding this year's conference include:</p>\n<ul>\n<li>\n<p>Where do theoretical boundaries between scientific models and theological frameworks lie&mdash\;and how porous should they be?</p>\n</li>\n<li>\n<p>What role does practice play in shaping or challenging theoretical commitments in science and religion?</p>\n</li>\n<li>\n<p>How do scientific advances influence religious beliefs\, rituals\, and moral decision‑making?</p>\n</li>\n<li>\n<p>We welcome submissions which engage with other issues at the intersection of natural and/or social science science and (any) religion. Whilst continuing to value the Christian origins of the Forum\, we particularly welcome papers that engage with science and religion from Eastern Orthodox\, and non-Christian perspectives which are historically under-represented at our conferences.</p>\n</li>\n</ul>
ORGANIZER;CN=Finley Lawson:
METHOD:PUBLISH
END:VEVENT
END:VCALENDAR
