BEGIN:VCALENDAR
PRODID:-//Grails iCalendar plugin//NONSGML Grails iCalendar plugin//EN
VERSION:2.0
CALSCALE:GREGORIAN
METHOD:PUBLISH
BEGIN:VEVENT
DTSTAMP:20260422T203516Z
DTSTART;TZID=Europe/London:20261120T090000
DTEND;TZID=Europe/London:20261120T090000
SUMMARY:Data\, Laws & Evidence: Philosophy of Science in Dialogue with religious Thought
UID:20260427T143534Z-iCalPlugin-Grails@philevents-web-6b96c54f56-bljdq
TZID:Europe/London
DESCRIPTION:<p>This conference will explore how current philosophical understandings of data\, natural laws\, evidence\, and explanation shape&mdash\;and are shaped by&mdash\;conversations with theology and religious studies. As scientific practice evolves in response to new methods\, technologies\, and conceptual frameworks\, fresh opportunities arise for constructive engagement across disciplines.&nbsp\;</p>\n\n<p>While abstracts on any relevant topic are invited\, submissions may wish to engage one or more of the following key themes:</p>\n<p>1.&nbsp\;The Nature of Evidence: Scientific\, Theological\, and Interdisciplinary Perspectives</p>\n<p>How do different disciplines understand what counts as &ldquo\;evidence&rdquo\;? Can theological or experiential forms of evidence be placed in dialogue with scientific standards? What challenges arise when evidence is mediated through models\, simulations\, or interpretive frameworks?</p>\n<p>2.&nbsp\;Laws of Nature\, Causation\, and Divine Action</p>\n<p>How are natural laws conceived within contemporary philosophy of science\, and what implications do these conceptions have for discussions of providence\, miracle\, agency\, and divine action? Are scientific and theological accounts of causation compatible or fundamentally distinct?</p>\n<p>3.&nbsp\;Data‑Driven Science and Its Philosophical and Theological Implications</p>\n<p>With the rise of big data\, machine learning\, and data‑intensive methods\, how is scientific reasoning changing? How might theology respond to questions of inference\, uncertainty\, pattern recognition\, and the role of human interpretation in data‑rich contexts?</p>\n<p>4.&nbsp\;Explanation\, Understanding\, and Meaning Across Disciplines</p>\n<p>What makes an explanation satisfactory in science or religion? How do metaphysical commitments influence interpretive choices? Can scientific and theological explanations coexist\, complement\, or challenge one another in offering understanding of the world?</p>\n\n<p>Abstracts are due midnight 30th September. Successful speakers will be notified by 19th October.</p>
ORGANIZER;CN=Finley Lawson:
METHOD:PUBLISH
END:VEVENT
END:VCALENDAR
