BEGIN:VCALENDAR
PRODID:-//Grails iCalendar plugin//NONSGML Grails iCalendar plugin//EN
VERSION:2.0
CALSCALE:GREGORIAN
METHOD:PUBLISH
BEGIN:VEVENT
DTSTAMP:20260423T044300Z
DTSTART;TZID=Europe/Madrid:20260430T234500
DTEND;TZID=Europe/Madrid:20260430T234500
SUMMARY:2nd PHILAWSON WORKSHOP: Contemporary Views on Social Ontology and Philosophy of Law
UID:20260428T122049Z-iCalPlugin-Grails@philevents-web-6b96c54f56-bljdq
TZID:Europe/Madrid
LOCATION:Faculty of Law (Universidad Autónoma de Madrid)\, Madrid\, Spain
DESCRIPTION:<p><strong>2nd&nbsp\;PHILAWSON WORKSHOP:</strong></p>\n<p><strong>Contemporary Views on Social Ontology and Philosophy of Law</strong></p>\n<p><strong>&nbsp\;</strong></p>\n<p><strong>Madrid\, 26-27 November</strong></p>\n<p><strong>Faculty of Law (Universidad Aut&oacute\;noma de Madrid)</strong></p>\n<p><strong>Deadline for submissions: 30th April 2026</strong></p>\n<p><strong></strong><strong>Link for submissions:&nbsp\;</strong><a  href="https://easychair.org/conferences/?conf=2ndplw"  target="_blank">https://easychair.org/conferences/?conf=2ndplw</a></p>\n<p>We are glad to announce the&nbsp\;<strong>2nd&nbsp\;Philawson Workshop:&nbsp\;Contemporary Views on Social Ontology and Philosophy of Law</strong>. This activity\, promoted by the&nbsp\;<a href="https://philawsonnetwork.wordpress.com/">Philawson Network</a>\, aims to advance research at the intersection of social ontology and the philosophy of law\, further investigating the philosophical foundations\, thematic overlaps\, and methodological affinities connecting these fields.</p>\n<p>This second edition will place particular emphasis on vulnerability and non-ideal social ontology. Addressing these themes offers an opportunity to explore how social ontology and legal philosophy can illuminate collective agency\, institutional responsibility\, and normative responses in contexts marked by ecological and social precarity.</p>\n<p>The 2nd&nbsp\;edition of the Philawson Workshop will be organised around two main thematic axes:</p>\n<p><strong>(1)</strong>&nbsp\;<strong>Social Ontology and Philosophy of Law: Foundations\, Concepts\, and Methods</strong>. This first axis continues the core aim of the network and the 1st&nbsp\;Philawson Workshop (held in Milan in 2024): to explore the conceptual\, historical\, and methodological connections between social ontology and legal philosophy. Contributions may address classical and contemporary authors\, themes such as constitutive rules\, legal and social facts\, and the metaphysics of normative entities.</p>\n<p><strong>(2)</strong>&nbsp\;<strong>Vulnerability\, Non-ideal Social Ontology\, and Law</strong>. We invite contributions that examine how social ontology and legal philosophy can illuminate issues of structural vulnerability\, environmental crises\, climate justice\, and non-ideal theoretical frameworks. This includes\, for example\, analyses of responsibility\, collective agency\, the ontological status of environmental harms\, the relationship between legal systems and social oppression\, and the connections between social change and law. We also welcome discussion of the boundaries between the natural and the social in addressing political and legal challenges.</p>\n<p><strong>The workshop will be held in Madrid (Spain) at the Universidad Aut&oacute\;noma de Madrid on 26 and 27 November.</strong></p>\n<p><strong>CONFIRMED SPEAKERS</strong><strong></strong></p>\n<p>Alba Lojo (Universit&agrave\; Roma Tre\, Italy)\;</p>\n<p>Andrea Loi (Universit&agrave\; Vita-Salute San Raffaele\, Italy)\;</p>\n<p>Andrei Marmor (Cornell University\, US)\;</p>\n<p>Anita de Franco (Politecnico di Milano\, Italy)\;</p>\n<p>&Aring\;sa Burman (University of Stockholm\, Sweden)\;</p>\n<p>Corrado Roversi (Universit&agrave\; di Bologna\, Italy)\;</p>\n<p>Giulia Lasagni (Universit&agrave\; degli Studi di Parma\, Italy)\;</p>\n<p>Kenneth Ehrenberg (University of Surrey\, UK)\;</p>\n<p>Maribel N&aacute\;rvaez Mora (Unversitat de Girona\, Spain)</p>\n<p>Matilde Rey (Universidad Aut&oacute\;noma de Madrid\, Spain)\;</p>\n<p>Miguel Garcia-Godinez (Universit&agrave\; di Bologna\, Italy)\;</p>\n<p>Olimpia Loddo (Universit&agrave\; di Cagliari\, Italy)\;</p>\n<p>Samuele Chilovi (CSIC\, Spain)\;</p>\n<p>Sebasti&aacute\;n Figueroa Rubio (Universidad Aut&oacute\;noma de Madrid\, Spain)\;</p>\n<p>Virginia Presi (Universit&agrave\; di Milano\, Italy)\;</p>\n<p>Vittorio Catalano (University of Vienna\, Austria)\;</p>\n<p><strong>CALL FOR ABSTRACTS</strong></p>\n<p>We invite contributions for the two aforementioned thematic axes:</p>\n<p>1. Social Ontology and Philosophy of Law: Foundations\, Concepts\, and Methods.</p>\n<p>2. Vulnerability\, Non-ideal Social Ontology\, and Law.</p>\n<p>Submissions must be prepared for double-blind review. Manuscripts must be written in English (in .doc format)\, should not contain any identifying information and they cannot exceed 1.000 words (excluding bibliography). Moreover\, they must contain:</p>\n<ul>\n<li>the indication of the section to which the author(s) wants to contribute.</li>\n<li>keywords (5 maximum).</li>\n</ul>\n<p>Selected abstracts will be invited to be discussed in person in Madrid\, where each presentation will last around 20 minutes followed by a Q&amp\;A section. There will be no conference fee.</p>\n<p>We have resources to contribute for travel and accommodation costs for young scholars without institutional support. If you are in this situation\, please include <strong>&ldquo\;Opting for Philawson scholarship&rdquo\;</strong> in your submission.</p>\n<p>Submissions should be sent via EasyChair&nbsp\;<strong>until April 30th\, 2026 (included)</strong>. A committee in charge will evaluate the submission\, and decisions will be communicated around the end of May.</p>\n<p>The organizers are considering the possibility of publishing a special issue or edited volume based on a selection of contributions presented at the workshop. While publication is not guaranteed\, participants should be aware of this prospective outcome when submitting their abstracts. We therefore encourage submissions of original and unpublished work.</p>\n<p>This event is possible thanks to the financial support of&nbsp\;<a href="https://isosonline.org/">International Social Ontology Society (ISOS)</a>&nbsp\;and the research project&nbsp\;<a href="https://www.ecogentium.es/">&ldquo\;Ecogentium. Ecological justice and new vulnerabilities: global legal challenges&rdquo\;</a>&nbsp\;(Project No. 2024/00209/001)\, funded by the Spanish State Research Agency (AEI).</p>\n<p>Organizers: Sebasti&aacute\;n Figueroa Rubio (Universidad Aut&oacute\;noma de Madrid)\, Matilde Rey (Universidad Aut&oacute\;noma de Madrid).</p>\n<p>Scientific Committee: Alba Lojo (Universit&agrave\; Roma Tre)\, Giulia Lasagni (Universit&agrave\; degli Studi di Parma).</p>\n<p>For further information about the event\, please contact the organizers at&nbsp\;<a href="mailto:philawson.network@gmail.com">philawson.network@gmail.com</a>.</p>\n<p>Further information about the Philawson Network is available at&nbsp\;<a href="https://philawsonnetwork.wordpress.com/">https://philawsonnetwork.wordpress.com</a>.</p>
ORGANIZER;CN="Sebastián Figueroa Rubio";CN="Matilde Rey Aramendía":
METHOD:PUBLISH
END:VEVENT
END:VCALENDAR
