BEGIN:VCALENDAR
PRODID:-//Grails iCalendar plugin//NONSGML Grails iCalendar plugin//EN
VERSION:2.0
CALSCALE:GREGORIAN
METHOD:PUBLISH
BEGIN:VEVENT
DTSTAMP:20260425T160309Z
DTSTART;TZID=America/Los_Angeles:20260626T090000
DTEND;TZID=America/Los_Angeles:20260628T170000
SUMMARY:Southwest Seminar in Continental Philosophy
UID:20260427T134915Z-iCalPlugin-Grails@philevents-web-6b96c54f56-bljdq
TZID:America/Los_Angeles
LOCATION:Merced\, United States
DESCRIPTION:<p>The Southwest Seminar in Continental Philosophy is an annual gathering and growing community of scholars. This year\, the seminar will be hosted by UC Merced in Merced\, California.</p>
ORGANIZER;CN=Moriah Q. Poliakoff;CN=Robin M. Muller:
METHOD:PUBLISH
END:VEVENT
END:VCALENDAR
