BEGIN:VCALENDAR
PRODID:-//Grails iCalendar plugin//NONSGML Grails iCalendar plugin//EN
VERSION:2.0
CALSCALE:GREGORIAN
METHOD:PUBLISH
BEGIN:VEVENT
DTSTAMP:20260420T151305Z
DTSTART;TZID=Europe/London:20260414T103000
DTEND;TZID=Europe/London:20260414T170000
SUMMARY:Mind the time: Puzzles of temporal cognition
UID:20260420T225732Z-iCalPlugin-Grails@philevents-web-f5d4878dd-nv7xt
TZID:Europe/London
LOCATION:John Carr Design Suite - C29\; Portobello Centre\, Sheffield\, United Kingdom\, S1 4ET
DESCRIPTION:<p>From catching a ball to crossing the street\, temporal cognition (i.e.\, the capacity to experience and think about time) plays a central function in our lives. Yet\, several foundational questions concerning temporal cognition and its role in our mental economy remain open: What does it mean that we experience events as unfolding in time? What is the relationship between time and consciousness? How does temporal cognition shape our emotional experiences?&nbsp\;</p>\n\n<p>This workshop\, sponsored by theHang Seng Centre for Cognitive Studiesand open to the public\, will explore these and related\, fascinating questions in the philosophy and cognitive science of time. The workshop will also host the second Distinguished Hang Seng Centre Public Lecture.</p>\n<p><br><br></p>\n<p>Programme</p>\n<p>(Each talk will last 45 minutes\, followed by a 45-minute Q&amp\;A session).</p>\n\n<p>10:30-12:00.Giuliano Torrengo(Universit&agrave\; degli Studi di Milano).&nbsp\;</p>\n<p>&ldquo\;What does it mean to believe that time does not pass?&rdquo\;</p>\n\n<p>12:00-13:30. Lunch break.&nbsp\;</p>\n\n<p>13:30-15:00.Fr&eacute\;d&eacute\;rique de Vignemont(Institut Jean Nicod\, Paris).&nbsp\;</p>\n<p>&ldquo\;3A perception: Anticipatory\, affective\, action-oriented&rdquo\;.&nbsp\;</p>\n<p>[Distinguished Hang Seng Centre for Cognitive Studies Public Lecture]</p>\n\n<p>15:00-15:15. Coffee Break.</p>\n\n<p>15:15-16:45.Gerardo Viera(University of Sheffield).&nbsp\;</p>\n<p>&ldquo\;Time and the unity of consciousness&rdquo\;.</p>
ORGANIZER;CN=Luca Barlassina:
METHOD:PUBLISH
END:VEVENT
END:VCALENDAR
