BEGIN:VCALENDAR
PRODID:-//Grails iCalendar plugin//NONSGML Grails iCalendar plugin//EN
VERSION:2.0
CALSCALE:GREGORIAN
METHOD:PUBLISH
BEGIN:VEVENT
DTSTAMP:20260420T151009Z
DTSTART;TZID=Europe/Warsaw:20260414T110000
DTEND;TZID=Europe/Warsaw:20260416T170000
SUMMARY:Agency and Individuality 
UID:20260420T224725Z-iCalPlugin-Grails@philevents-web-f5d4878dd-nv7xt
TZID:Europe/Warsaw
LOCATION:Grodzka 52\, Kraków\, Poland
DESCRIPTION:<p>This conference brings together scientists and philosophers to explore the concepts of agency and individuality\, two of the most fundamental and contested ideas across the life sciences\, philosophy\, and the physical sciences. Participants will examine how entities come to count as individuals and how agency emerges or is attributed at different levels of organization\, from cells and organisms to collectives and social groups. The conference offers an interdisciplinary space where scientific and philosophical perspectives meet to rethink how we understand individuals and agents.</p>\n<p><strong>If you would like to attend as a listener\, please write to:</strong>&nbsp\;jan.czarnecki@doctoral.uj.edu.pl</p>\n<p>The schedule:</p>\n<p><strong>Tuesday\, 14 April</strong></p>\n<p><strong>09:50&ndash\;10:00</strong> &mdash\; Welcome</p>\n<p><strong>10:00&ndash\;11:00</strong> &mdash\; <strong>Javier Su&aacute\;rez</strong> (University of Oviedo)<br> <em>&ldquo\;Agency\, Capabilities and the Body Plan: The Case of Fungal Agency&rdquo\;</em></p>\n<p><strong>11:00&ndash\;12:00</strong> &mdash\; <strong>Jana &Scaron\;vorcov&aacute\;</strong> (Charles University)<br> <em>&ldquo\;Evolving by Norms\, Habits\, and Creativity: A Bio-Philosophical Perspective on Organismal Evolution&rdquo\;</em></p>\n<p><strong>12:00&ndash\;13:00</strong> &mdash\; <strong>J. Arvid &Aring\;gren</strong> (Case Western Reserve University &amp\; Cleveland Clinic Research)</p>\n<p><em>&ldquo\;The Paradox of the Organism&rdquo\;</em></p>\n<p><strong>13:00&ndash\;14:00</strong> &mdash\; Lunch Break</p>\n<p><strong>14:00&ndash\;15:00</strong> &mdash\; <strong>Andrzej Gecow</strong> (Polish Academy of Sciences\, emeritus)<br> <em>&ldquo\;Definitions of Life and the Resulting Draft of the Deductive Theory of Life&rdquo\;</em></p>\n<p><strong>15:00&ndash\;16:00</strong> &mdash\; <strong>Guglielmo Militello</strong> (University of Bordeaux &amp\; CNRS / Paris 1 Panth&eacute\;on-Sorbonne University)<br> <em>&ldquo\;Functional Integration: A Theoretical Enquiry into the Biological Unit of the Individual&rdquo\;</em></p>\n<p><strong>Wednesday\, 15 April</strong></p>\n<p><strong>10:00&ndash\;11:00</strong> &mdash\; <strong>Zofia Prokop</strong> (Jagiellonian University)<br> <em>&ldquo\;Emergent Strategies to Mend the World Broken by Being Reduced ad Absurdum &ndash\; An Angry Biologist&rsquo\;s Perspective&rdquo\;</em></p>\n<p><strong>11:00&ndash\;12:00</strong> &mdash\; <strong>Jan Czarnecki</strong> (Jagiellonian University)<br> <em>&ldquo\;Is Life Inherently Agential\, or Is Agency Not Enough About Living? A Sketch of an Agency-First Theory of Life&rdquo\;</em></p>\n<p><strong>12:00&ndash\;13:00</strong> &mdash\; <strong>Jan Baedke</strong> (Ruhr University) (<em>canceled</em>)<br> <em>&ldquo\;Why Organisms Are Different Agents than Other Biological Individuals&rdquo\;</em></p>\n<p><strong>13:00&ndash\;14:00</strong> &mdash\; Lunch Break</p>\n<p><strong>14:00&ndash\;15:00</strong> &mdash\; <strong>Thomas M&uuml\;ller</strong> (University of Konstanz)<br> <em>&ldquo\;Agency as an Emergent Physical Phenomenon&rdquo\;</em></p>\n<p><strong>15:00&ndash\;16:00</strong> &mdash\; <strong>Tomasz Placek</strong> (Jagiellonian University)<br> <em>&ldquo\;What Memory for an Agent?&rdquo\;</em></p>\n<p><strong>Thursday\, 16 April</strong></p>\n<p><strong>10:00&ndash\;11:00</strong> &mdash\;&nbsp\;<strong>Szymon Miłkoś<br></strong>(Polish Academy of Sciences)<strong><br></strong>&ldquo\;Agency\, Individuality\, and Identity: Through a Metacognitive Continuum<strong>&rdquo\;<br><br></strong></p>\n<p><strong>11:00&ndash\;12:00</strong> &mdash\; <strong>Ciprian Jeler</strong> (Alexandru Ioan Cuza University of Iași)<br> <em>&ldquo\;Selective Paths and the Units of Selection&rdquo\;</em></p>\n<p><strong>12:00&ndash\;13:00</strong> &mdash\; <strong>Pierrick Bourrat</strong> (Macquarie University)<br> <em>&ldquo\;Agency\, Goal-Directedness\, and the Levels of Biological Organisation&rdquo\;</em></p>\n<p><strong>13:00&ndash\;14:00</strong> &mdash\; Lunch Break</p>\n<p><strong>14:00&ndash\;15:00</strong> &mdash\; <strong>Mariano Mart&iacute\;n-Villuendas</strong> (Complutense University of Madrid)<br> <em>&ldquo\;Tensions in Biological Individuality: A Metascientific Diagnose&rdquo\;</em></p>\n<p><strong>15:00&ndash\;16:00</strong> &mdash\; <strong>Adrian Stencel</strong> (Jagiellonian University)<br> <em>Who Controls the Holobiont? Agency\, Symbiosis\, and Control</em></p>\n<p><strong>The book of abstracts: <em>TBA</em></strong></p>
ORGANIZER;CN=Adrian Stencel;CN=Jan Czarnecki:
METHOD:PUBLISH
END:VEVENT
END:VCALENDAR
