BEGIN:VCALENDAR
PRODID:-//Grails iCalendar plugin//NONSGML Grails iCalendar plugin//EN
VERSION:2.0
CALSCALE:GREGORIAN
METHOD:PUBLISH
BEGIN:VEVENT
DTSTAMP:20260420T140519Z
DTSTART;TZID=America/Los_Angeles:20141010T080000
DTEND;TZID=America/Los_Angeles:20141011T130000
SUMMARY:University of California\, Los Angeles and University of Antwerp Joint Conference on Law and Philosophy
UID:20260420T200354Z-iCalPlugin-Grails@philevents-web-f5d4878dd-nv7xt
TZID:America/Los_Angeles
LOCATION:405 Hilgard\, Los Angeles\, United States\, 90024
DESCRIPTION:<p>This conference is a joint event sponsored by the UCLA Law and Philosophy program in cooperation with the University of Antwerp's Centre for Law and Cosmopolitan Values.&nbsp\;</p>\n<p>The program begins at noon on October 10 and will go throughout the day and then start again on the morning of October 11. Presentations are scheduled by faculty members\, recent Ph.D. recipients as well as current graduate students. The audience will be mixed as well. The focus will be on law and philosophy\, particularly ethics and philosophy of langugage as they relate to law.&nbsp\;</p>\n<p>If you would like attend\, please RSVP with an email to uclalawandphilosophyconference@gmail.com by October 1\, 2014.</p>\n<p>The current schedule is below.&nbsp\;</p>\n<p>************SCHEDULE*****************</p>\n<p><strong>Friday\, October 10</strong></p>\n<p><strong>UCLA Law School\, Room 1457</strong></p>\n<p><u>12 - 1:30pm</u></p>\n<p>Opening Keynote. George Pavlakos\, University of Antwerp\, "Law's Authority: Authorizing or Obligating? A Comment on Scott Shapiro's "Legality.""</p>\n<p><u>2 - 3pm</u></p>\n<p>Samuele Chilovi\, University of Antwerp and University of Barcelona\, "Maurice v. Judd: a Case Study on the Interplay Between Law and Language." Comments by Will Reckner\, UCLA</p>\n<p><u>3:15 - 4:30pm</u></p>\n<p>Stephen Nayak Young\, UCLA\, "Revising the Roles of Master and Servant." Comments by Lee-Ann Chae\, UCLA</p>\n<p><u>5 - 6:00pm</u></p>\n<p>Renee Bolinger\, USC\, "Revisiting the Right To Do Wrong."&nbsp\;</p>\n<p>Comments by David Bordeaux\, UCLA&nbsp\;&nbsp\;</p>\n<p><strong>Saturday\, October 11</strong></p>\n<p><strong>UCLA Law School\, Room 1457</strong></p>\n<p><u>8:30 - 9am</u></p>\n<p>Breakfast (provided)</p>\n<p><u>9 - 10:15am</u></p>\n<p>Daniel Pilchman\, Chapman University\, "On The Duty to Mitigate: A Typology of Dworkin's New Philosophy." Comments by Jonathan Gingerich\, UCLA</p>\n<p><u>10:45 - 11:45am</u></p>\n<p>Sebastian Baldinger\, University of Antwerp\, "In the Beginning was the...What? -- The Problematic Role of Language Use in Law Creation." Comments by Alexi Patsaouras\, UCLA</p>\n<p><u>11:45am - 1:15pm</u></p>\n<p>Lunch (provided)</p>\n<p><u>1:15 - 2:30pm</u></p>\n<p>Triantafyllos Gkouvas\, University of Antwerp\, "On the Verge of Verbalness." Comments by Jordan Wolf\, UCLA</p>\n<p><u>2:45 - 3:45pm</u></p>\n<p>Olufemi Taiwo\, UCLA\, "Turn Down for What?" Comments by Lauren Schaeffer\, UCLA</p>\n<p><u>3:45 - 4:30</u></p>\n<p>Break (drinks and food provided)</p>\n<p><u>4:30 - 6pm</u></p>\n<p>Closing Keynote. Mark Greenberg\, UCLA\, "Solving Religious Freedom."</p>
ORGANIZER;CN=Jonathan Gingerich;CN=Jordan Wolf:
METHOD:PUBLISH
END:VEVENT
END:VCALENDAR
