BEGIN:VCALENDAR
PRODID:-//Grails iCalendar plugin//NONSGML Grails iCalendar plugin//EN
VERSION:2.0
CALSCALE:GREGORIAN
METHOD:PUBLISH
BEGIN:VEVENT
DTSTAMP:20260422T102032Z
DTSTART;TZID=Europe/Paris:20260626T134500
DTEND;TZID=Europe/Paris:20260627T170000
SUMMARY:Indexical Cognition and Subjectivity
UID:20260425T212546Z-iCalPlugin-Grails@philevents-web-6b96c54f56-bljdq
TZID:Europe/Paris
LOCATION:Gières\, France
DESCRIPTION:<p><strong>Workshop Program</strong></p>\n<p><strong>Friday\, June 26</strong></p>\n<p>13:45-15:00 Adrian Alsmith: &ldquo\;Body ownership and self-representation&rdquo\;&nbsp\;</p>\n<p>15:15-16:30 Catherine Hochman: &ldquo\;Local and global body ownership: A case for&nbsp\;representational independence&rdquo\;&nbsp\;</p>\n<p>16:45-18:00 Susanna Schellenberg: &ldquo\;Subject-indexed and location-indexed&nbsp\;mental states&rdquo\;&nbsp\;</p>\n<p><strong>Saturday\, June 27</strong></p>\n<p>9:30-10:45 Julian Hauser: &ldquo\;Self from no self: Mirror self-recognition and the&nbsp\;gradual development of self-representation&rdquo\;&nbsp\;</p>\n<p>11:00-12:15 Fran&ccedil\;ois Recanati: &ldquo\;Immunity to error through misidentification&rdquo\;&nbsp\;</p>\n<p>13:30-14:45 Marie Guillot: TBA&nbsp\;</p>\n<p>15:00-16:30 Jos&eacute\; Luis Berm&uacute\;dez: &ldquo\;Elusiveness and the &ldquo\;I&rdquo\;-as-subject&rdquo\;&nbsp\;</p>
ORGANIZER;CN=Catherine Hochman;CN=Joulia Smortchkova:
METHOD:PUBLISH
END:VEVENT
END:VCALENDAR
