BEGIN:VCALENDAR
PRODID:-//Grails iCalendar plugin//NONSGML Grails iCalendar plugin//EN
VERSION:2.0
CALSCALE:GREGORIAN
METHOD:PUBLISH
BEGIN:VEVENT
DTSTAMP:20260420T035534Z
DTSTART;TZID=Europe/Vienna:20260514T110000
DTEND;TZID=Europe/Vienna:20260515T170000
SUMMARY:Self-Knowledge Conference
UID:20260423T154202Z-iCalPlugin-Grails@philevents-web-f5d4878dd-nv7xt
TZID:Europe/Vienna
LOCATION:Graz\, Austria
ORGANIZER;CN=Ursula Renz;CN=Bernhard Ritter;CN="Denis Džanić";CN=Tuomo Tiisala:
METHOD:PUBLISH
END:VEVENT
END:VCALENDAR
