BEGIN:VCALENDAR
PRODID:-//Grails iCalendar plugin//NONSGML Grails iCalendar plugin//EN
VERSION:2.0
CALSCALE:GREGORIAN
METHOD:PUBLISH
BEGIN:VEVENT
DTSTAMP:20260420T153354Z
DTSTART;TZID=America/Toronto:20140815T080000
DTEND;TZID=America/Toronto:20140815T080000
SUMMARY:University of California\, Los Angeles and University of Antwerp Joint Conference on Law and Philosophy
UID:20260421T002138Z-iCalPlugin-Grails@philevents-web-f5d4878dd-nv7xt
TZID:America/Toronto
LOCATION:405 Hilgard\, Los Angeles\, United States\, 90024
DESCRIPTION:<p>Law students\, graduate students\, recent law school graduates and recent PhD recipients (PhDs granted in 2012 or later) are invited to submit papers on law and philosophy\, broadly construed\, with an emphasis on ethics and law or philosophy of language and law. Please submit an essay of approximately 4000 words\, prepared for blind review. Submissions should be sent by email in doc\, docx\, pdf\, or rtf format to UCLALawandPhilosophyConference@gmail.com by August 15\, 2014. In a separate cover letter\, authors should provide their name\, the title of their paper\, their institutional affiliation\, and contact information. Notifications of acceptance will be sent by September 1\, 2014.&nbsp\;</p>\n<p>Please contact UCLALawandPhilosophyConference@gmail.com with any questions.</p>
ORGANIZER;CN=Jonathan Gingerich;CN=Jordan Wolf:
METHOD:PUBLISH
END:VEVENT
END:VCALENDAR
