BEGIN:VCALENDAR
PRODID:-//Grails iCalendar plugin//NONSGML Grails iCalendar plugin//EN
VERSION:2.0
CALSCALE:GREGORIAN
METHOD:PUBLISH
BEGIN:VEVENT
DTSTAMP:20260420T024832Z
DTSTART;TZID=Europe/Copenhagen:20260428T183000
DTEND;TZID=Europe/Copenhagen:20260428T203000
SUMMARY:AI Regulation and Consumer Protection
UID:20260423T111539Z-iCalPlugin-Grails@philevents-web-f5d4878dd-nv7xt
TZID:Europe/Copenhagen
LOCATION:HUSET (Xenon) Rådhusstræde 13\, Copenhagen\, Denmark\, 1466
DESCRIPTION:<p>The Center for Philosophy of Artificial Intelligence (CPAI) at the University of Copenhagen invites you to a public talk by&nbsp\;<strong>Gleb Papyshev</strong>\,&nbsp\;Assistant Professor at&nbsp\;Lingnan University. &nbsp\; &nbsp\;</p>\n<p><strong>AI Regulation and Consumer Protection</strong> &nbsp\; &nbsp\;</p>\n<p>This talk describes a captured techno-regulatory imaginary in Artificial Intelligence governance\, defined by a teleological focus on Artificial General Intelligence\, a hierarchy of speculative risk\, and a pro-innovation regulation. Using the eight United Nations consumer rights as a lens\, it traces how this imaginary is authored by leading AI firms\, legitimized by national governments\, and universalized through international soft law. This process systematically marginalizes present-day consumer harms. The analysis concludes that operationalizing the underdeveloped rights to consumer education and redress is the pathway for reform\, which can help realign existing AI regulation with real consumer welfare. &nbsp\;</p>\n<p><strong>Gleb Papyshev</strong>&nbsp\;is an Assistant Professor in the Department of Government and International Affairs and the Division of Artificial Intelligence at Lingnan University. His research focuses on AI governance\, regulation\, and ethics. Previously\, he served as a Research Assistant Professor at the Hong Kong University of Science and Technology. His work has appeared in peer-reviewed outlets such as Electronic Markets\, Technology in Society\, Review of Policy Research\, Policy Design and Practice\, AI &amp\; Society\, and the AAAI/ACM Conference on AI\, Ethics\, and Society\, among others. &nbsp\; The talk will be one hour with a Q&amp\;A afterward. &nbsp\;</p>\n<p><strong>Time:</strong>&nbsp\;Tuesday 28 April 2026\,&nbsp\;19:00 &ndash\; 20:30 (doors 18:30)</p>\n<p><strong>Place:</strong>&nbsp\;HUSET (Xenon)\, R&aring\;dhusstr&aelig\;de 13\, 1466&nbsp\;Copenhagen\, Denmark. &nbsp\;</p>\n<p>(Please note: This is an in-person only event)</p>
ORGANIZER:
METHOD:PUBLISH
END:VEVENT
END:VCALENDAR
