BEGIN:VCALENDAR
PRODID:-//Grails iCalendar plugin//NONSGML Grails iCalendar plugin//EN
VERSION:2.0
CALSCALE:GREGORIAN
METHOD:PUBLISH
BEGIN:VEVENT
DTSTAMP:20260420T055710Z
DTSTART;TZID=America/New_York:20260901T130000
DTEND;TZID=America/New_York:20260901T130000
SUMMARY:Authority\, Expertise\, and Deference in Politics
UID:20260424T021034Z-iCalPlugin-Grails@philevents-web-f5d4878dd-nv7xt
TZID:America/New_York
LOCATION:Richmond\, United States
DESCRIPTION:<p>Questions about authority\, expertise\, and deference are central to political life. When\, if ever\, should citizens defer to the judgment of experts\, elected officials\, or political institutions? This conference brings together scholars working on the intersections of epistemology\, democratic theory\, and political philosophy to examine the nature\, grounds\, and limits of authority\, expertise and deference in politics.</p>\n<p><strong>Call for Abstracts<br></strong>We welcome abstracts on any topic related to the conference theme. Potential topics include:</p>\n<ul>\n<li>Epistemic authority and expertise in democratic governance</li>\n<li>Deference\, disagreement\, and political testimony</li>\n<li>Citizens' epistemic obligations in democratic decision-making</li>\n<li>The limits of deference to political\, legal\, and scientific authority</li>\n<li>Testimony\, trust\, and deference in political discousrse</li>\n</ul>\n<p>Please send an anonymized abstract (750&ndash\;1000 words) to mccormick.miriam@gmail.com by&nbsp\;<strong>September 1\, 2026</strong>.</p>\n<p>Speakers will receive&nbsp\;<strong>full funding</strong>&nbsp\;to present at the event\, including economy travel and accommodation.</p>
ORGANIZER;CN=Miriam Schleifer McCormick;CN=Michael Hannon:
METHOD:PUBLISH
END:VEVENT
END:VCALENDAR
