BEGIN:VCALENDAR
PRODID:-//Grails iCalendar plugin//NONSGML Grails iCalendar plugin//EN
VERSION:2.0
CALSCALE:GREGORIAN
METHOD:PUBLISH
BEGIN:VEVENT
DTSTAMP:20260420T040744Z
DTSTART;TZID=Europe/Brussels:20260618T100000
DTEND;TZID=Europe/Brussels:20260619T170000
SUMMARY:Liège Workshop - Early British Metaphysics of Mind
UID:20260423T165341Z-iCalPlugin-Grails@philevents-web-f5d4878dd-nv7xt
TZID:Europe/Brussels
LOCATION:Pl. du Vingt Août 7\, Liège\, Belgium\, 4000
ORGANIZER;CN=Jacopo Pallagrosi;CN=Valentina Martinis;CN=Bruno Leclercq:
METHOD:PUBLISH
END:VEVENT
END:VCALENDAR
