BEGIN:VCALENDAR
PRODID:-//Grails iCalendar plugin//NONSGML Grails iCalendar plugin//EN
VERSION:2.0
CALSCALE:GREGORIAN
METHOD:PUBLISH
BEGIN:VEVENT
DTSTAMP:20260420T151204Z
DTSTART;TZID=Europe/London:20260422T180000
DTEND;TZID=Europe/London:20260715T170000
SUMMARY:Representations in Minds\, Brains\, and AI
UID:20260420T225539Z-iCalPlugin-Grails@philevents-web-f5d4878dd-nv7xt
TZID:Europe/London
DESCRIPTION:<p>This series was prompted by a recent wave of fascinating new work on the topic of representations. We are honored and happy that so many authors agreed to participate and we hope to provide a platform for further interdisciplinary discussion. Most papers are already available and you can find links here:&nbsp\;https://www.pe.ruhr-uni-bochum.de/philosophie/ii/bewusstsein/lehre.html.en</a>&nbsp\;<br><br><strong>Schedule</strong><br>22 April\,&nbsp\;<strong>Rosa Cao&nbsp\;</strong>(Stanford): The Scientist in the Machine&nbsp\;(paper forthcoming)<br>29 April\,&nbsp\;<strong>Ken Aizawa&nbsp\;</strong>(Rutgers):&nbsp\;The Evidence for Representation&nbsp\;<br>06 May\,&nbsp\;<strong>Corey Maley</strong>&nbsp\;(Purdue):&nbsp\;Structural Representation is Analog Representation<br>13 May\,&nbsp\;<strong>Kevin J. Mitchell</strong>&nbsp\;(Dublin):&nbsp\;The Origins of Meaning: From Pragmatic Control Signals to Semantic Representation<br>20 May\,&nbsp\;<strong>Eric Hochstein</strong>&nbsp\;(Victoria\, Canada)):&nbsp\;Neural Representations as Scientific Posits and Metaphysical Entities<br>10 June\,&nbsp\;<strong>Manolo Mart&iacute\;nez</strong>&nbsp\;(Barcelona):&nbsp\;The Information-Processing Perspective on Representation<br>17 June\,&nbsp\;<strong>John Krakauer</strong>&nbsp\;(Johns Hopkins/Champalimaud Foundation) &amp\;&nbsp\;<strong>Bill Ramsey</strong>&nbsp\;(Nevada\, Las Vegas):&nbsp\;Mental Representation without Neural Representation<br>24 June\,&nbsp\;<strong>Nina Poth</strong>&nbsp\;(Radboud\, Nijmegen) &amp\;&nbsp\;<strong>Annika Schuster</strong>&nbsp\;(Dortmund):&nbsp\;Mental\, Scientific\, and Artificial Representations<br>01 July\,&nbsp\;<strong>Lotem Elber-Dorozko&nbsp\;</strong>(Jerusalem) &amp\;&nbsp\;<strong>Devin Gouv&ecirc\;a</strong>&nbsp\;(Holy Cross):&nbsp\;"Neural Representation" is not a Defective Concept<br>08 July\,&nbsp\;<strong>Zina B. Ward&nbsp\;</strong>(Florida State):&nbsp\;Directive Representation and the Job Description Challenge<br>15 July\,&nbsp\;<strong>Krzysztof Dolega</strong>&nbsp\;(Ruhr-University Bochum): The Gloss on the Machine: Egan's Representations in Mechanistic Explanation&nbsp\;(paper forthcoming)<br><br>All sessions will be on Zoom:<br>https://ruhr-uni-bochum.zoom-x.de/j/64692924755?pwd=803uh1OEPBkBrEONeL87zJFudGjlw7.1</a>&nbsp\;&nbsp\;<br>Meeting-ID: 646 9292 4755 | Passwort: 531564<br><br>Everybody interested is welcome!</p>
ORGANIZER;CN=Tobias Schlicht;CN=Krzysztof (Krys) Dolega:
METHOD:PUBLISH
END:VEVENT
END:VCALENDAR
