BEGIN:VCALENDAR
PRODID:-//Grails iCalendar plugin//NONSGML Grails iCalendar plugin//EN
VERSION:2.0
CALSCALE:GREGORIAN
METHOD:PUBLISH
BEGIN:VEVENT
DTSTAMP:20260421T213202Z
DTSTART;TZID=America/Chicago:20260430T100000
DTEND;TZID=America/Chicago:20260501T170000
SUMMARY:Second Midwest Annual Workshop in Ancient Philosophy
UID:20260424T134711Z-iCalPlugin-Grails@philevents-web-6b96c54f56-bljdq
TZID:America/Chicago
LOCATION:1007 W. Harrison St\, Chicago\, United States\, 60607
DESCRIPTION:<p>The Midwest Annual Workshop on Ancient Philosophy (MAWAP) aims to foster the ancient philosophy community in the Midwest and to provide early-career scholars with a platform where to share their current research. This year\, the event is jointly sponsored by the UIC and Loyola University of Chicago Philosophy departments\, with generous support from the Institute for the Humanities at UIC. The keynote address will be given by Sophia Connell (University of Notre Dame)\, "Aristotle on how and why the eyes of different animals differ.&rdquo\; This year&rsquo\;s speakers include: Chelsea Bowden (Denison University)\, Daniel Kranzelbinder (University of Chicago)\, Sadie McCloud (University of Indiana)\, Joshua Trubowitz (University of Notre Dame)\, and Christen Zimecki (Wayne State University)\, with comments by Arnold Brooks (University of Chicago)\, Gonzalo Jordan (University of Notre Dame)\, Gabriel Lear (University of Chicago)\, Katherine Meadows (Indiana University)\, Joshua Mendelsohn (Loyola University Chicago)\, John Proios (University of Chicago)\, and Justin Vlasits (University of Illinois Chicago).</p>
ORGANIZER;CN=Rebecca Caithamer;CN=Justin Vlasits;CN=Joshua Mendelsohn:
METHOD:PUBLISH
END:VEVENT
END:VCALENDAR
