BEGIN:VCALENDAR
PRODID:-//Grails iCalendar plugin//NONSGML Grails iCalendar plugin//EN
VERSION:2.0
CALSCALE:GREGORIAN
METHOD:PUBLISH
BEGIN:VEVENT
DTSTAMP:20260421T194001Z
DTSTART;TZID=Europe/Zurich:20260507T141500
DTEND;TZID=Europe/Zurich:20260508T170000
SUMMARY:Conceptions of Epistêmê in Greek Philosophy
UID:20260424T063147Z-iCalPlugin-Grails@philevents-web-6b96c54f56-bljdq
TZID:Europe/Zurich
LOCATION:Rue Jean-Daniel Colladon 2\, Genève\, Switzerland
DESCRIPTION:<p>DAY 1: Thursday\, May 7\, 2026</p>\n<p><strong>14:15&ndash\;14:30</strong></p>\n<p>Welcome &amp\; Introduction</p>\n<p><strong>14:30&ndash\;15:45</strong></p>\n<p>Rachel Barney: &ldquo\;Knowledge\, <em>Techn&ecirc\;</em>\, and the Rule of the Guardians in Plato&rsquo\;s <em>Republic</em>&rdquo\;</p>\n<p><strong>16:15&ndash\;17:30</strong></p>\n<p>Guus Eelink: &ldquo\;Plato&rsquo\;s Conception of <em>Epist&ecirc\;m&ecirc\;</em> as Rationally Stable Cognition&rdquo\;</p>\n<p><strong>17:45&ndash\;19:00</strong></p>\n<p>M&aacute\;t&eacute\; Veres: &ldquo\;Knowledge and Expertise in Early Stoicism&rdquo\;</p>\n<p><u>DAY 2: Friday\, May 8\, 2026</u></p>\n<p><strong>9:30&ndash\;10:45</strong></p>\n<p>Simona Aimar: &ldquo\;Particulars and Scientific Knowledge&nbsp\;in Aristotle&rdquo\;</p>\n<p><strong>11:00&ndash\;12:15</strong></p>\n<p>Pieter Sjoerd Hasper: &ldquo\;Aristotle on <em>Epist&ecirc\;m&ecirc\;</em> and its Object&rdquo\;</p>\n<p><strong>14:00&ndash\;15:15</strong></p>\n<p>Alexander Bown: &ldquo\;Epistemology without <em>Epist&ecirc\;m&ecirc\;</em>: Epicureans on Evidence as the Foundation of Knowledge&rdquo\;</p>\n<p><strong>15:45&ndash\;16:30</strong></p>\n<p>Orna Harari: &ldquo\;The Commentators and the Euclidean Project&rdquo\;</p>\n<p><strong>16:45&ndash\;18:00</strong></p>\n<p>Sara Magrin: &ldquo\;Plotinus on the Epistemic Role of Memory&rdquo\;</p>\n<p><u>Discussants</u>: G&aacute\;bor Betegh\, Tad Brennan\, Maria di Palma\, Emily Hulme\, Katerina Ierodiakonou\, Samuel Meister\, Fran&ccedil\;ois Nolle\, Christof Rapp\, Miira Tuominen.</p>
ORGANIZER;CN="Máté Veres";CN=Peter Sjoerd Hasper:
METHOD:PUBLISH
END:VEVENT
END:VCALENDAR
