BEGIN:VCALENDAR
PRODID:-//Grails iCalendar plugin//NONSGML Grails iCalendar plugin//EN
VERSION:2.0
CALSCALE:GREGORIAN
METHOD:PUBLISH
BEGIN:VEVENT
DTSTAMP:20260421T212915Z
DTSTART;TZID=Europe/Moscow:20260415T234500
DTEND;TZID=Europe/Moscow:20260415T234500
SUMMARY:«Transcendental Turn in Contemporary Philosophy – 11: the "Problem of Method" and the Specificity of the Transcendental Research (Philosophy)\, Transcendentalism and Epistemology Cognitive Science\, Artificial Intelligence» 
UID:20260424T133719Z-iCalPlugin-Grails@philevents-web-6b96c54f56-bljdq
TZID:Europe/Moscow
LOCATION:H.26 Maronovsky lane\, Moscow\, Russia\, 119049
DESCRIPTION:<p><a href="https://www.linkedin.com/edu/russian-orthodox-institute-of-st.-john-theologian-16795?trk=ppro_sprof"><strong>STATE ACADEMIC UNIVERSITY OF THE HUMANITIES</strong></a></p>\n<p><strong>RUSSIAN STATE UNIVERSITY FOR THE HUMANITIES</strong></p>\n<p><strong>RUDN university</strong></p>\n<p><strong>Immanuel Kant Baltic Federal University</strong></p>\n<p><em><strong>Scientific Council on the Methodology of Artificial Intelligence and Cognitive Research </strong></em><strong>of the Russian Academy of Sciences</strong></p>\n<p><strong>Foundation for the Humanities</strong></p>\n<p><strong>&nbsp\;</strong></p>\n<p><strong><u>XI INTERNATIONAL SCIENTIFI</u></strong><strong><u>С</u></strong><strong><u> WORKSHOP (conference)</u></strong></p>\n<p><strong>Transcendental Turn in Contemporary Philosophy &ndash\; 11: the &laquo\;Problem of the Method&raquo\; and the Specificity of the Transcendental Research</strong><strong>\, Transcendentalism and Epistemology Cognitive Science\, and Artificial Intelligence</strong></p>\n<p><strong><em>Dear Colleagues\,</em></strong></p>\n<p>From <strong>April 23</strong> to <strong>April 25\, 2026</strong>\, the XI Moscow international conference (workshop) &laquo\;<strong>Transcendental Turn in Contemporary Philosophy &ndash\; 11</strong>: <strong>the</strong> <strong>"Problem of Method" and the Specificity of the Transcendental Research (Philosophy)\, Transcendentalism and Epistemology Cognitive Science\, Artificial Intelligence</strong>&raquo\; will be held.</p>\n<p><strong>&nbsp\;</strong>Faculty of Philosophy of the SAUH\, Faculty of Philosophy of the RSUH\, Faculty of philosophy of the RUDN university\, Immanuel Kant Baltic Federal University\, SCMAI RAS and Foundation for the Humanities invite you to participate in the XI Moscow&rsquo\;s International Transcendental Workshop.</p>\n<p>&nbsp\;<strong><u>The</u></strong><u> <strong>workshop&ndash\;2026</strong></u> continues the series of thematic workshops <em>&ldquo\;<strong>Transcendental Turn in Contemporary Philosophy</strong>&rdquo\;</em> which were held in April 2016 (proceedings: <a href="https://elibrary.ru/item.asp?id=29024766">https://elibrary.ru/item.asp?id=29024766</a>)\, April 2017 (proceedings: <a href="https://elibrary.ru/item.asp?id=30560011">https://elibrary.ru/item.asp?id=30560011</a>)\, April 2018 (abstracts: <a href="https://elibrary.ru/item.asp?id=35240888">https://elibrary.ru/item.asp?id=35240888</a>)\, April 2019 (abstracts: <a href="https://elibrary.ru/item.asp?id=39452678%D0%B1">https://elibrary.ru/item.asp?id=39452678</a>\, proceedings: <a href="https://elibrary.ru/item.asp?id=41494716">https://elibrary.ru/item.asp?id=41494716</a>)\, April/October 2020 (abstracts: <a href="https://elibrary.ru/item.asp?id=44404439">https://elibrary.ru/item.asp? id=44404439</a>)\, April 2021 (abstracts: <a href="https://www.elibrary.ru/item.asp?id=47196636">https://www.elibrary.ru/item.asp?id=47196636</a>\; proceedings: <a href="https://www.elibrary.ru/item.asp?id=48458596&amp\;selid=48458651">https://www.elibrary.ru/item.asp?id=48458596</a>)\; April 2022 (abstracts: <a href="https://www.elibrary.ru/item.asp?id=49505613">https://www.elibrary.ru/item.asp?id=49505613</a>\; proceedings: <a href="https://www.academia.edu/93905826/">https://www.academia.edu/93905826/</a>)\; April 2023 (abstracts: <a href="https://elibrary.ru/item.asp?id=65509620">https://elibrary.ru/item.asp?id=65509620</a>\; proceedings: <a href="https://www.academia.edu/110312071/">https://www.academia.edu/110312071/</a><strong>)\; </strong>April 2024 (proceedings: <a href="https://www.academia.edu/117335170/">https://www.academia.edu/117335170/</a><strong>)\; </strong>April 2025 (proceedings: <a href="https://www.academia.edu/128980080/">https://www.academia.edu/128980080/</a>)</p>\n<p><u>Problematics / scope</u> <u>of the conference</u>. In his definition of transcendental philosophy Kant postulates a shift (turn) from studying of objects to studying of [aprioristic] mode of cognition [CPR\, B25]. On the one hand\, such transcendental turn defines &ldquo\;the altered method of our thinking&rdquo\; [CPR\, BVXIII] and leads to the &ldquo\;Copernican revolution&rdquo\; in metaphysics\; on the other hand\, the transcendental shift to studying of &ldquo\;mode of our cognition&rdquo\; predetermines the influence of a transcendentalism on contemporary development of epistemology\, cognitive sciences and artificial intelligence.</p>\n<p>The goal of the workshops is to discuss the transcendental turn in modern philosophy and its development in three main transcendental traditions: Kantian Transcendentalism\, neo-Kantianism\, Phenomenology.</p>\n<p><strong><u>Time</u></strong>: <strong>April 23 &ndash\; 25\, 2026</strong></p>\n<p><strong>&nbsp\;</strong></p>\n<p><strong><u>Venue</u></strong>: Russian Federation\, Moscow: SAUH\, RSUH\, RUDN\, Immanuel Kant Baltic Federal University</p>\n<p><strong><u>Format</u></strong>: there will be several thematic sessions in the hybrid format (in-person and online (hybrid)).</p>\n<p><strong><u>Participation forms</u></strong><u>: </u>Thematic (section) talks (20 &ndash\; 30 min.).</p>\n<p><strong><u>Deadline</u></strong> of order taking (theses) for participation &mdash\; <strong>April 15\, 2026.</strong></p>\n<p>To participate in the workshop it is necessary to send the entry (see <u>ann.1</u> in <u>att</u>.) and abstracts (or theses of report for the <em>Proceedings</em>) (up to 160 / 2000 words\; see <u>ann.</u>2/sample in <u>att</u>.) to e-mail <a href="mailto:transcendental2016@gmail.com">transcendental2016@gmail.com</a>. Theses must be provided with an abstract (160 words) and background information about the author (full name\, degree\, place of employment\, contacts).<strong></strong></p>\n<p><strong>Organizing &amp\; Program Committee: </strong>Chairman &ndash\; member of Russian Academy of Sciences V.&nbsp\;Lektorsky\, co-chairman PhD&nbsp\;S.&nbsp\;Katrechko\, Prof.&nbsp\;V.&nbsp\;Belov\, Dr.&nbsp\;A.&nbsp\;Alekseev\, Dr.&nbsp\;M.&nbsp\;Zagirnyak\, PhD&nbsp\;А.&nbsp\;Shiyan</p>\n<p><strong><u>Main themes</u></strong> (sessions) of the workshop:</p>\n<p><u>23.04.2026 (SAUH)</u></p>\n<p>&Oslash\;&nbsp\; 1.1. <strong>The </strong><strong>&ldquo\;altered method of our thinking&rdquo\; and &ldquo\;Copernican revolution&rdquo\; in Metaphysics\;</strong></p>\n<p>&Oslash\;&nbsp\; <strong>1.2. Epistemology\, Cognitive Science\, and Artificial Intelligence: A Transcendental Approach\;</strong></p>\n<p><strong><u>&nbsp\;</u></strong></p>\n<p><strong><u>24.04.</u></strong><strong><u>202</u></strong><strong><u>6</u></strong><u> (RSHU)</u></p>\n<p>&Oslash\;&nbsp\; <strong>2.1. The Problem of the Phenomenological Method\;</strong></p>\n<p>&Oslash\;&nbsp\; <strong>2.2. Roundtable (Discussion): "What is Phenomenology?"\;</strong></p>\n<p><strong><u>&nbsp\;</u></strong></p>\n<p><strong><u>25.04.2025</u></strong><u> (RUDN // Immanuel Kant Baltic Federal University</u>)<strong></strong></p>\n<p>&Oslash\;&nbsp\; 3.1. <strong>The problem of [transcendental] method in the neo-Kantianism &ndash\; 1\;</strong></p>\n<p>&Oslash\;&nbsp\; 3.2. <strong>The problem of [transcendental] method in the neo-Kantianism &ndash\; 2\;</strong></p>\n<p><strong>Conditions for participants:</strong> organizing<strong> </strong>committee does not cover travelling and living expenses\, but willing to give necessary informational support.</p>\n<p><strong>Background information:</strong> e-mail <a href="mailto:transcendental2016@gmail.com">transcendental2016@gmail.com</a></p>\n<p>For additional information contact <em>Katrechko Sergey</em> (<a href="mailto:skatrechko@gmail.com">skatrechko@gmail.com</a>\; +7 (977)3824070) and <em>Shiyan Anna</em> (<a href="mailto:annasamoikina@yandex.ru">annasamoikina@yandex.ru</a>\; +7&nbsp\;(916)0511324).</p>\n<p><strong>Address of steering committee:</strong> room 225\, H.26\, Maronovsky Lane\, Moscow\, 119049\, Russian Federation\; +7 (499) 238-47-04.</p>\n<p>The <em>collection of abstracts</em> is planned to be electronic published before the workshop start (Russian Science Citation Index). The <em>Proceedings</em> of the workshop is planned to be published. Chosen papers of the contributors will be published in <em>&ldquo\;Studies in Transcendental Philosophy&rdquo\;</em> (<a href="https://transcendental.su/">https://transcendental.su/</a>\; <a href="https://ras.jes.su/transcendental-en">https://ras.jes.su/transcendental-en</a>).</p>\n<p>Yours respectfully\, Conference Organizing Committee</p>
ORGANIZER;CN=Sergey Katrechko:
METHOD:PUBLISH
END:VEVENT
END:VCALENDAR
