BEGIN:VCALENDAR
PRODID:-//Grails iCalendar plugin//NONSGML Grails iCalendar plugin//EN
VERSION:2.0
CALSCALE:GREGORIAN
METHOD:PUBLISH
BEGIN:VEVENT
DTSTAMP:20260422T055354Z
DTSTART;TZID=Europe/Warsaw:20260919T000000
DTEND;TZID=Europe/Warsaw:20260919T170000
SUMMARY:Conference celebrating Cezary Cieśliński’s 60th birthday
UID:20260425T083811Z-iCalPlugin-Grails@philevents-web-6b96c54f56-bljdq
TZID:Europe/Warsaw
LOCATION:Warsaw\, Poland
DESCRIPTION:<p>We will be meeting at the University of Warsaw to celebrate Cezary Cieśliński&rsquo\;s 60th birthday\, exchanging ideas on topics Prof. Cieśliński has contributed to.</p>
ORGANIZER;CN="Mateusz Łełyk";CN=Luca Castaldo;CN="Maciej Głowacki";CN=Matteo Zicchetti:
METHOD:PUBLISH
END:VEVENT
END:VCALENDAR
