BEGIN:VCALENDAR
PRODID:-//Grails iCalendar plugin//NONSGML Grails iCalendar plugin//EN
VERSION:2.0
CALSCALE:GREGORIAN
METHOD:PUBLISH
BEGIN:VEVENT
DTSTAMP:20260422T115901Z
DTSTART;TZID=Europe/London:20260615T234500
DTEND;TZID=Europe/London:20260615T234500
SUMMARY:Issue on Ludology and the Foundations of a Play Pedagogy (Journal Temps d'Educació)
UID:20260426T025521Z-iCalPlugin-Grails@philevents-web-6b96c54f56-bljdq
TZID:Europe/London
DESCRIPTION:<p>Call for abstracts for the monograph corresponding to issue 72 of the journal&nbsp\;<em>Temps d&rsquo\;Educaci&oacute\;</em>\, which will be the first issue of 2027 and will be dedicated to&nbsp\;<em>Ludology and the foundations of play pedagogy.</em></p>
ORGANIZER:
METHOD:PUBLISH
END:VEVENT
END:VCALENDAR
