BEGIN:VCALENDAR
PRODID:-//Grails iCalendar plugin//NONSGML Grails iCalendar plugin//EN
VERSION:2.0
CALSCALE:GREGORIAN
METHOD:PUBLISH
BEGIN:VEVENT
DTSTAMP:20260422T120152Z
DTSTART;TZID=America/New_York:20260515T130000
DTEND;TZID=America/New_York:20260515T130000
SUMMARY:Higher-Order Metaphysics Workshop 2026
UID:20260426T030702Z-iCalPlugin-Grails@philevents-web-6b96c54f56-bljdq
TZID:America/New_York
LOCATION:3400 N. Charles Street\, Baltimore\, United States\, 21218
DESCRIPTION:<p>Higher-order metaphysics is a growing movement at the intersection of metaphysics and philosophical logic. It is characterized by the use of higher-order formal languages in philosophical theorizing&mdash\;typically in metaphysics\, but with important applications in the philosophy of language and mind.</p>\n<p>Since 2016\, a series of workshops have provided a dedicated venue for philosophers working in higher-order metaphysics to share their research and engage with a wider community. <em>HOMeWork 9</em>&nbsp\;will continue this tradition at Johns Hopkins University on&nbsp\;<strong>September 25&ndash\;26\, 2026</strong>&nbsp\;(Friday&ndash\;Saturday).</p>\n<p>We invite submissions of&nbsp\;<strong>extended abstracts</strong>&nbsp\;(anything from a couple of paragraphs to a full paper) prepared for&nbsp\;<strong>anonymous review</strong>. We welcome submissions\, on any philosophical topic\, that are about or make use of higher-order languages&mdash\;broadly construed. Abstracts should be submitted through the following form:</p>\n<p><a href="https://tinyurl.com/HOMeWork2026JHU">https://tinyurl.com/HOMeWork2026JHU</a></p>\n<p>Deadline for submissions:&nbsp\;<strong>May 15\, 2026</strong></p>\n<p>Notification of acceptance: Early June\, 2026</p>\n<p>If you have any questions\, please email&nbsp\;<u>higherordermetaphysicsworkshop@gmail.com</u>.</p>
ORGANIZER;CN=Jeremy Goodman:
METHOD:PUBLISH
END:VEVENT
END:VCALENDAR
