BEGIN:VCALENDAR
PRODID:-//Grails iCalendar plugin//NONSGML Grails iCalendar plugin//EN
VERSION:2.0
CALSCALE:GREGORIAN
METHOD:PUBLISH
BEGIN:VEVENT
DTSTAMP:20260423T205329Z
DTSTART;TZID=Europe/London:20260630T090000
DTEND;TZID=Europe/London:20260701T170000
SUMMARY: 'Styles of Perception': From Historical Perspectives to the Digital Age
UID:20260430T145730Z-iCalPlugin-Grails@philevents-web-6b96c54f56-bljdq
TZID:Europe/London
LOCATION:University of York\, York\, United Kingdom\, YO10 5DD
DESCRIPTION:<p>We warmly invite postgraduate students to submit an abstract. For further details\, please refer to our website: https://sites.google.com/view/stylesofperception/home. The registration deadline has not yet been confirmed\; we will provide updates as soon as possible. For more information\, please contact: stylesperception@outlook.com</p>
ORGANIZER;CN=Siying Jiao;CN=Sofia Livi:
METHOD:PUBLISH
END:VEVENT
END:VCALENDAR
