BEGIN:VCALENDAR
PRODID:-//Grails iCalendar plugin//NONSGML Grails iCalendar plugin//EN
VERSION:2.0
CALSCALE:GREGORIAN
METHOD:PUBLISH
BEGIN:VEVENT
DTSTAMP:20260423T224602Z
DTSTART;TZID=Europe/London:20260501T234500
DTEND;TZID=Europe/London:20260501T234500
SUMMARY: 'Styles of Perception': From Historical Perspectives to the Digital Age
UID:20260430T183705Z-iCalPlugin-Grails@philevents-web-6b96c54f56-bljdq
TZID:Europe/London
LOCATION:University of York\, York\, United Kingdom\, YO10 5DD
DESCRIPTION:<p>For more information:&nbsp\;https://sites.google.com/view/stylesofperception/home\; or contract: stylesperception@outlook.com</p>
ORGANIZER;CN=Siying Jiao;CN=Sofia Livi:
METHOD:PUBLISH
END:VEVENT
END:VCALENDAR
