BEGIN:VCALENDAR
PRODID:-//Grails iCalendar plugin//NONSGML Grails iCalendar plugin//EN
VERSION:2.0
CALSCALE:GREGORIAN
METHOD:PUBLISH
BEGIN:VEVENT
DTSTAMP:20260420T034711Z
DTSTART;TZID=Europe/Belgrade:20260430T234500
DTEND;TZID=Europe/Belgrade:20260430T234500
SUMMARY:Moral Progress and Moral Change
UID:20260423T151344Z-iCalPlugin-Grails@philevents-web-f5d4878dd-nv7xt
TZID:Europe/Belgrade
LOCATION:Ulica grada Vukovara 54\, Zagreb\, Croatia\, 10000
DESCRIPTION:<p>We are very pleased to announce that the Summer School&nbsp\;<strong>&lsquo\;Moral Progress and Moral Change&rsquo\;</strong>&nbsp\;will take place&nbsp\;from&nbsp\;<strong>June 16&nbsp\;&ndash\; 18 2026</strong>&nbsp\;at the&nbsp\;Institute of Philosophy in Zagreb.</p>\n<p>The program is aimed at PhD candidates\, advanced MA students\, or early career researchers working in the philosophy of moral progress and moral change broadly construed. Our summer school will encompass debates about the normative criteria of moral progress\, the empirical case for ongoing moral regress\, the relationship between social identities and social norm change\, and the relationship between technological and moral change.</p>\n<p><u>The summer school will feature keynotes from:</u></p>\n<p><strong>&nbsp\;&nbsp\;&nbsp\;&nbsp\;&nbsp\;&nbsp\;&nbsp\;&nbsp\;&nbsp\;&nbsp\;&nbsp\;&nbsp\;&bull\; Agnes Tam (University of Calgary)</strong></p>\n<p><strong>&nbsp\;&nbsp\;&nbsp\;&nbsp\;&nbsp\;&nbsp\;&nbsp\;&nbsp\;&nbsp\;&nbsp\;&nbsp\;&nbsp\;&bull\; Victor Kumar (Boston University)</strong></p>\n<p><strong>&nbsp\;&nbsp\;&nbsp\;&nbsp\;&nbsp\;&nbsp\;&nbsp\;&nbsp\;&nbsp\;&nbsp\;&nbsp\;&nbsp\;&bull\; John Danaher (University of Galway)</strong></p>\n<p>In addition to keynote lectures and student presentations\, we will also have a few presentations on moral progress and moral change from scholars in the regional research community. However\, our key focus is on allowing plenty of time for participants to discuss issues related to the philosophy of moral progress and moral change and make fruitful research connections among a group of scholars with related interests.</p>\n<p><u>How to apply:</u></p>\n<p>Our program has space for a limited number of student presentations (20 mins talk\, followed by 10 mins Q&amp\;A).&nbsp\;<strong>It is not necessary to present in order to attend. You can apply without a presentation\, as an attendee.</strong></p>\n<p>The submission deadline is&nbsp\;<strong>30 April 2026 (deadline extended)</strong>.</p>\n<p>To apply as either a presenter or attendee\, please do so on our website:&nbsp\;<strong>https://mpmc.ifzg.hr/</strong></p>\n<p>If you have any additional questions\, feel free to contact&nbsp\;<strong>mbiturajac@ifzg.hr</strong></p>\n<p>The attendance fee is&nbsp\;<strong>&euro\;100</strong>. Our three-day program will include lunch each day\, and a dinner one evening to which all participants are invited.</p>\n<p><em>This Summer School is supported by the Institute of Philosophy\, and by the Croatian Science Foundation-funded projects&nbsp\;</em><em>MoPIC</em><em>&nbsp\;and&nbsp\;</em>AIAJ<em>.</em></p>\n<p>Best wishes from the Summer School Organising Committee\,</p>\n<p>Mia Biturajac\, Charlie Blunden\, Petar Bodlović\, Nino Kadić\, Marco Tassela\, Monika Zeba</p>
ORGANIZER:
METHOD:PUBLISH
END:VEVENT
END:VCALENDAR
