BEGIN:VCALENDAR
PRODID:-//Grails iCalendar plugin//NONSGML Grails iCalendar plugin//EN
VERSION:2.0
CALSCALE:GREGORIAN
METHOD:PUBLISH
BEGIN:VEVENT
DTSTAMP:20260420T034910Z
DTSTART;TZID=America/Los_Angeles:20260509T090000
DTEND;TZID=America/Los_Angeles:20260509T170000
SUMMARY:Berkeley-Stanford-Davis Graduate Conference in Philosophy\, 2026
UID:20260423T151722Z-iCalPlugin-Grails@philevents-web-f5d4878dd-nv7xt
TZID:America/Los_Angeles
LOCATION:450 Jane Stanford Way \, Stanford\, United States\, 94305
DESCRIPTION:<p>We are excited to invite you to attend this year&rsquo\;s&nbsp\;<strong>Berkeley&ndash\;Stanford&ndash\;Davis (BSD) Graduate Conference in Philosophy</strong>\, which will take place &nbsp\;at Stanford on&nbsp\;<strong>Saturday\, May 9\, 2026&nbsp\;</strong>from 9:00 AM - 6:00 PM<strong>.</strong></p>\n<p>The conference will feature presentations from graduate students across working in a wide range of areas in philosophy. We are also delighted to have&nbsp\;<strong>Dr. Andrew Lichter&nbsp\;</strong>delivering this year&rsquo\;s&nbsp\;<strong>keynote</strong>!</p>\n<p>The BSD Conference is a great opportunity to connect with graduate students from other universities and&nbsp\;we would love for you to join us for part or all of the day!</p>\n<p>If you would like to attend\,<strong>&nbsp\;please register</strong>&nbsp\;here on PhilEvents or at this link:&nbsp\;https://docs.google.com/forms/d/e/1FAIpQLSdWeKRUrl0gAZGTtOc8kG-8iNKTX_g7TJkTcASbKt2_xdlZJw/viewform</p>\n<p>Walk-ins are also welcome!</p>\n<p>If you have any questions\, feel free to reach out to us at bsdconference2026@gmail.com.</p>\n<p>We hope to see you there!</p>\n<p>All the best\,<br>The BSD Conference Organizing Committee</p>
ORGANIZER;CN=Samantha Augusta Bennett;CN=Hayden Macklin;CN=Reid Kurashige:
METHOD:PUBLISH
END:VEVENT
END:VCALENDAR
