BEGIN:VCALENDAR
PRODID:-//Grails iCalendar plugin//NONSGML Grails iCalendar plugin//EN
VERSION:2.0
CALSCALE:GREGORIAN
METHOD:PUBLISH
BEGIN:VEVENT
DTSTAMP:20260420T041328Z
DTSTART;TZID=America/New_York:20260501T093000
DTEND;TZID=America/New_York:20260502T170000
SUMMARY:Mohawk Valley Metaphysics
UID:20260423T172440Z-iCalPlugin-Grails@philevents-web-f5d4878dd-nv7xt
TZID:America/New_York
LOCATION:807 Union Street\, Schenectady\, United States
DESCRIPTION:<p>The Philosophy department at Union College is happy to host Mohawk Valley Metaphysics\, a workshop for philosophers working in metaphysics.&nbsp\;</p>\n<p>Friday May 1st</p>\n<p>9:30 am coffee and snacks</p>\n<p>10am Mark Balaguer\, Cal State LA: &ldquo\;Welcome to Flatland: A Nice Place to Live&rdquo\;</p>\n<p>11am Rebecca Chan\, San Jose State University:&nbsp\;&ldquo\;A Chapter from&nbsp\;<em>The Ethics of Transformative Experience</em>"</p>\n<p>2pm Tim Juvshik\, Middlebury College: &ldquo\;Who Is the Author of Generative AI Outputs?</p>\n<p>3pm Amy Seymour\, Rutgers University:&nbsp\; &ldquo\;Theoretical Satiation"</p>\n<p>Saturday May 2nd</p>\n<p>9:30 am coffee and snacks</p>\n<p>10am Dan Korman\, UC Santa Barbara:&nbsp\; &nbsp\; &ldquo\;Constitution and the Benacerraf Problem"</p>\n<p>11am Katrina Elliott\, Brandeis University:&nbsp\;"The Principal Principle: What is it? Who cares?"</p>\n<p>2pm Ying Huang\, Union College:&nbsp\;"Revisiting the Laws of Nature Debate: A Disagreement about Explanatory Structures"</p>\n<p>3pm Ned Markosian\, UMass Amherst:&nbsp\; &ldquo\;Causation\, Agent Causation\, and Free Will.&rdquo\;&nbsp\;</p>\n<p>Please email David Friedell at friedeld@union.edu if you have any questions.</p>
ORGANIZER;CN=David Friedell:
METHOD:PUBLISH
END:VEVENT
END:VCALENDAR
