BEGIN:VCALENDAR
PRODID:-//Grails iCalendar plugin//NONSGML Grails iCalendar plugin//EN
VERSION:2.0
CALSCALE:GREGORIAN
METHOD:PUBLISH
BEGIN:VEVENT
DTSTAMP:20260420T041211Z
DTSTART;TZID=Europe/Rome:20260909T090000
DTEND;TZID=Europe/Rome:20260911T170000
SUMMARY:6th European Experimental Philosophy Conference
UID:20260423T171552Z-iCalPlugin-Grails@philevents-web-f5d4878dd-nv7xt
TZID:Europe/Rome
LOCATION:Cagliari\, Italy
ORGANIZER;CN=Filippo Contesi;CN=Francesca Ervas:
METHOD:PUBLISH
END:VEVENT
END:VCALENDAR
