BEGIN:VCALENDAR
PRODID:-//Grails iCalendar plugin//NONSGML Grails iCalendar plugin//EN
VERSION:2.0
CALSCALE:GREGORIAN
METHOD:PUBLISH
BEGIN:VEVENT
DTSTAMP:20260420T041232Z
DTSTART;TZID=Europe/Rome:20260908T090000
DTEND;TZID=Europe/Rome:20260908T170000
SUMMARY:Interdisciplinary Perspectives on Linguistic Justice
UID:20260423T171553Z-iCalPlugin-Grails@philevents-web-f5d4878dd-nv7xt
TZID:Europe/Rome
LOCATION:Cagliari\, Italy
ORGANIZER;CN=Filippo Contesi;CN=Yael Peled:
METHOD:PUBLISH
END:VEVENT
END:VCALENDAR
