BEGIN:VCALENDAR
PRODID:-//Grails iCalendar plugin//NONSGML Grails iCalendar plugin//EN
VERSION:2.0
CALSCALE:GREGORIAN
METHOD:PUBLISH
BEGIN:VEVENT
DTSTAMP:20260420T034840Z
DTSTART;TZID=Europe/Rome:20260501T234500
DTEND;TZID=Europe/Rome:20260501T234500
SUMMARY:Interdisciplinary Perspectives on Linguistic Justice
UID:20260423T151540Z-iCalPlugin-Grails@philevents-web-f5d4878dd-nv7xt
TZID:Europe/Rome
LOCATION:Cagliari\, Italy
ORGANIZER;CN=Filippo Contesi;CN=Yael Peled:
METHOD:PUBLISH
END:VEVENT
END:VCALENDAR
