BEGIN:VCALENDAR
PRODID:-//Grails iCalendar plugin//NONSGML Grails iCalendar plugin//EN
VERSION:2.0
CALSCALE:GREGORIAN
METHOD:PUBLISH
BEGIN:VEVENT
DTSTAMP:20260420T062750Z
DTSTART;TZID=America/New_York:20261010T090000
DTEND;TZID=America/New_York:20261011T170000
SUMMARY:Formal Approaches to Rationality and Meaning (FARM)
UID:20260424T040304Z-iCalPlugin-Grails@philevents-web-f5d4878dd-nv7xt
TZID:America/New_York
LOCATION:New York\, United States
DESCRIPTION:<p>FARM is a conference that aims to bring together researchers studying meaning\, reasoning and rational norms.</p>
ORGANIZER;CN=Matthew Mandelkern;CN=Harvey Lederman;CN=Snow Zhang;CN=Paolo Santorio;CN=Julia Staffel:
METHOD:PUBLISH
END:VEVENT
END:VCALENDAR
