BEGIN:VCALENDAR
PRODID:-//Grails iCalendar plugin//NONSGML Grails iCalendar plugin//EN
VERSION:2.0
CALSCALE:GREGORIAN
METHOD:PUBLISH
BEGIN:VEVENT
DTSTAMP:20260420T081530Z
DTSTART;TZID=America/New_York:20260615T234500
DTEND;TZID=America/New_York:20260615T234500
SUMMARY:Formal Approaches to Rationality and Meaning (FARM)
UID:20260424T105924Z-iCalPlugin-Grails@philevents-web-f5d4878dd-nv7xt
TZID:America/New_York
LOCATION:New York\, United States
DESCRIPTION:<p>FARM is a conference that aims to bring together researchers studying meaning\, reasoning and rational norms.&nbsp\;</p>\n\n<p>Conference webpage: https://mmandelkern.github.io/farm26.html</p>\n\n<p><strong>Time</strong>: October 10-11\, 2026</p>\n<p><strong>Location:</strong> NYU Department of Philosophy</p>\n\n<p>We welcome submission from a variety of fields\, including epistemology\, philosophy of language\, decision theory\, philosophical logic\, metaphysics\, philosophy of mind\, and metaethics.&nbsp\;</p>\n\n<p>We will cover accommodation for speakers and assist with travel.</p>\n\n<p>Please submit a draft of <strong>no more than 5000 words</strong> formatted for anonymous review.&nbsp\; Submissions are due <strong>June 15\, 2026</strong><strong></strong></p>\n\n<p><strong>Submission link</strong>: https://openreview.net/group?id=FARM/2026/Conference#tab-your-consoles</p>\n\n<p>Please contact the organizers with any questions.&nbsp\;</p>\n<p>Harvey Lederman: <a href="mailto:harveyslederman@gmail.com">harveyslederman@gmail.com</a></p>\n<p>Matt Mandelkern: <a href="mailto:mam1239@nyu.edu">mam1239@nyu.edu</a></p>\n<p>Paolo Santorio: <a href="mailto:paolosantorio@gmail.com">paolosantorio@gmail.com</a></p>\n<p>Julia Staffel: <a href="mailto:julia.staffel@colorado.edu">julia.staffel@colorado.edu</a></p>\n<p>Snow Zhang: <a href="mailto:snowzhang@berkeley.edu">snowzhang@berkeley.edu</a></p>
ORGANIZER;CN=Matthew Mandelkern;CN=Harvey Lederman;CN=Snow Zhang;CN=Paolo Santorio;CN=Julia Staffel:
METHOD:PUBLISH
END:VEVENT
END:VCALENDAR
