BEGIN:VCALENDAR
PRODID:-//Grails iCalendar plugin//NONSGML Grails iCalendar plugin//EN
VERSION:2.0
CALSCALE:GREGORIAN
METHOD:PUBLISH
BEGIN:VEVENT
DTSTAMP:20260420T123133Z
DTSTART;TZID=Europe/Belgrade:20260617T090000
DTEND;TZID=Europe/Belgrade:20260617T170000
SUMMARY:Epistemic Dimensions of Democratic Deliberation in the Digital Age
UID:20260420T151320Z-iCalPlugin-Grails@philevents-web-f5d4878dd-nv7xt
TZID:Europe/Belgrade
LOCATION:Sveucilisna avenija 4\, Rijeka\, Croatia
DESCRIPTION:<p><strong><em>Details:&nbsp\;</em></strong> <strong><em><br></em></strong> One-day Conference &ndash\; June 17\, 2026 Faculty of Humanities and Social Sciences\, University of Rijeka &nbsp\;</p>\n<p>The Faculty of Humanities and Social Sciences at the University of Rijeka is organizing the one-day conference &ldquo\;Epistemic Dimensions of Democratic Deliberation in the Digital Age." The event brings together scholars working in social and political epistemology\, democratic theory\, and political philosophy\, with a particular focus on epistemic democracy and the transformations of deliberative practices under digital conditions. Motivated by recent shifts in how citizens form\, evaluate\, and contest politically relevant beliefs\, the conference explores the epistemic quality of democratic decision-making in contemporary societies.&nbsp\; &nbsp\;</p>\n<p>Special attention will be given to the role of digital technologies in reshaping deliberative environments\, influencing epistemic agency\, and structuring the conditions under which political knowledge is produced\, shared\, and contested. &nbsp\; The conference is grounded in the framework of epistemic democracy and seeks to examine both the enabling and constraining factors that affect the epistemic performance of democratic systems. Contributions may address\, among other topics\, the epistemic standards of public deliberation\, the role of disagreement and pluralism\, the impact of digital media on collective reasoning\, and the challenges posed by epistemic inequalities and distortions. In line with recent developments in deliberative theory\, the conference also invites reflections on how non-ideal conditions\, including polarization\, misinformation\, and unequal epistemic capacities\, shape democratic legitimacy and the prospects for epistemically sound political outcomes. &nbsp\;</p>\n<p><strong>Keynote Speaker</strong> &nbsp\;</p>\n<p>Jos&eacute\; Luis Mart&iacute\; (Pompeu Fabra University) &nbsp\;</p>\n<p><strong>Call for Abstracts</strong> &nbsp\;</p>\n<p>Scholars (doctoral students and above) interested in partaking in the conference must send a 250-word abstract of their lectures to <em>kristinalb@uniri.hr</em> by May 15\, 2026 with the e-mail titled "Submission<em>&nbsp\;for the "Epistemic Dimensions of Democratic Deliberation in the Digital Age.&rdquo\;&nbsp\; conference. </em> The organizers will inform applicants whether their participation has been accepted by May 20\, 2026.&nbsp\; &nbsp\;</p>\n<p><strong>Further Information for Participants</strong> &nbsp\;</p>\n<p>Participation in the conference is free of charge.&nbsp\; &nbsp\;</p>\n<p>The conference is an output of the Next-Gen EU-funded project "Affective Deliberation"\,&nbsp\;uniri-mz-25-70. &nbsp\; &nbsp\; &nbsp\;</p>
ORGANIZER;CN=Kristina Lekic:
METHOD:PUBLISH
END:VEVENT
END:VCALENDAR
