BEGIN:VCALENDAR
PRODID:-//Grails iCalendar plugin//NONSGML Grails iCalendar plugin//EN
VERSION:2.0
CALSCALE:GREGORIAN
METHOD:PUBLISH
BEGIN:VEVENT
DTSTAMP:20260420T122815Z
DTSTART;TZID=Europe/London:20260701T230000
DTEND;TZID=Europe/London:20260701T230000
SUMMARY:Philosophy of Emotions\, Philosophy and Psychiatry\, Philosophy as Transformation\, Ancient Philosophy/ Thaumazein
UID:20260420T145815Z-iCalPlugin-Grails@philevents-web-f5d4878dd-nv7xt
TZID:Europe/London
DESCRIPTION:<p><strong>Call for Open Essays &ndash\; <em>Thaumazein</em>\, Volume 15\, Issue 1 (2027)</strong></p>\n<p><em>Thaum&agrave\;zein</em> invites submissions for its forthcoming open issue (Vol. 15\, No. 1\, June 2027). Unlike previous monographic issues\, this volume welcomes original contributions across the journal's core areas of interest\, with particular attention to:</p>\n<ul>\n<li><strong>Philosophy of emotions</strong> and the phenomenology of affective life\;</li>\n<li><strong>Philosophy and psychiatry</strong> (philosophy of psychiatry\, philosophical psychopathology\, phenomenological approaches to mental disorders)\;</li>\n<li><strong>Philosophy as a way of transformation</strong> (philosophy as a way of life\, spiritual exercises\, ethics of self-formation and Bildung)\;</li>\n<li><strong>Ancient philosophy</strong> and its contemporary resonance.</li>\n</ul>\n<p>Contributions in theoretical philosophy\, moral philosophy\, and the history of philosophy more broadly are also welcome. Prospective authors are encouraged to consult the journal's back catalogue:</p>\n<p>&nbsp\;https://rivista.thaumazein.it/index.php/thaum/index</p>\n<p><strong>Submission Guidelines</strong></p>\n<p>Contributions may be submitted in English or Italian\, in two stages:</p>\n<ul>\n<li><strong>Stage 1 &ndash\; Title and abstract</strong> (max. 4\,000 characters): by <strong>1 July 2026</strong>\, to be sent to editorial@thaumazein.it and to Prof. Guido Cusinato (guido.cusinato@univr.it).</li>\n<li><strong>Stage 2 &ndash\; Full paper</strong> (max. 35\,000 characters\, including spaces): by <strong>1 November 2026</strong>\, via the OJS platform:https://rivista.thaumazein.it/index.php/thaum/about/submissions</li>\n</ul>\n<p>Editorial guidelines for authors are available at:https://rivista.thaumazein.it/index.php/thaum/about/submissions</p>\n<p><strong>Publication</strong></p>\n<p>The volume is scheduled for publication in <strong>June 2027</strong>.</p>
ORGANIZER:
METHOD:PUBLISH
END:VEVENT
END:VCALENDAR
