BEGIN:VCALENDAR
PRODID:-//Grails iCalendar plugin//NONSGML Grails iCalendar plugin//EN
VERSION:2.0
CALSCALE:GREGORIAN
METHOD:PUBLISH
BEGIN:VEVENT
DTSTAMP:20260420T150754Z
DTSTART;TZID=Asia/Shanghai:20261009T090000
DTEND;TZID=Asia/Shanghai:20261011T170000
SUMMARY:Entia et Nomina 2026
UID:20260420T222939Z-iCalPlugin-Grails@philevents-web-f5d4878dd-nv7xt
TZID:Asia/Shanghai
LOCATION:92 Wucheng Road\, Taiyuan\, China
ORGANIZER;CN=Thomas William Strickland Hodgson;CN=Zuzanna Hodgson-Gnatek:
METHOD:PUBLISH
END:VEVENT
END:VCALENDAR
