BEGIN:VCALENDAR
PRODID:-//Grails iCalendar plugin//NONSGML Grails iCalendar plugin//EN
VERSION:2.0
CALSCALE:GREGORIAN
METHOD:PUBLISH
BEGIN:VEVENT
DTSTAMP:20260421T225532Z
DTSTART;TZID=Europe/Rome:20260715T230000
DTEND;TZID=Europe/Rome:20260715T230000
SUMMARY:"On Trial". Claiming Feminist Justice in Dark Times - Between Law\, Testimony\, and Politics
UID:20260424T165930Z-iCalPlugin-Grails@philevents-web-6b96c54f56-bljdq
TZID:Europe/Rome
LOCATION:Via San Francesco 22\, Verona\, Italy
DESCRIPTION:<p>The conference\, organized by the Arendt&nbsp\;Center&nbsp\;as part of the Marie Skłodowska-Curie Project &ldquo\;<strong>Rewriting Rights</strong>&rdquo\; &ndash\; &nbsp\;explores the double sense in which feminist justice is&nbsp\;&ldquo\;on trial&rdquo\;&nbsp\;today &mdash\; in courtrooms\, where the performance and performativity of legal proceedings expose the structural limits of institutional justice\, and in culture\, where dominant narratives continue to normalize gendered violence. The conference aims to brings feminist philosophy and critical theory into dialogue with socio-legal perspectives to ask what more transformative forms of justice might look like.</p>\n<p>Keynote speakers:</p>\n<ul>\n<li><strong>Leigh Gilmore (The Ohio State University)</strong></li>\n<li><strong>An&aacute\;lia&nbsp\;Torres (University of Lisbon)</strong></li>\n</ul>\n<p>The conference will also include a workshop on Women&rsquo\;s Courts and Tribunals on Crimes against Women.</p>\n<p>We invite submissions from researchers working in&nbsp\;feminist philosophy\, critical theory\, political theory\, socio-legal theory\, gender studies\, or related fields.</p>\n<p>We particularly welcome contributions from early-career researchers and scholars from diverse geographical contexts.&nbsp\;</p>\n<p>For further details\, including submission guidelines and thematic areas\, please consult the full call for abstracts at the link below.&nbsp\;</p>\n<p><strong>Submission deadline: 15 July 2026</strong></p>\n<p>E-mail for submission and inquiry:&nbsp\;ontrial.conference@gmail.com</p>
ORGANIZER:
METHOD:PUBLISH
END:VEVENT
END:VCALENDAR
