BEGIN:VCALENDAR
PRODID:-//Grails iCalendar plugin//NONSGML Grails iCalendar plugin//EN
VERSION:2.0
CALSCALE:GREGORIAN
METHOD:PUBLISH
BEGIN:VEVENT
DTSTAMP:20260421T210202Z
DTSTART;TZID=America/Indiana/Indianapolis:20270430T090000
DTEND;TZID=America/Indiana/Indianapolis:20270501T170000
SUMMARY:2027 Ethics at Notre Dame symposium: Ethics Beyond Action
UID:20260424T104818Z-iCalPlugin-Grails@philevents-web-6b96c54f56-bljdq
TZID:America/Indiana/Indianapolis
LOCATION:Notre Dame\, United States
DESCRIPTION:<p>The Ethics at Notre Dame symposium ("ENDs" for short) is a biennial\, thematic conference in normative ethics held every other spring at the University of Notre Dame beginning in 2027. Free and open to all registrants\, ENDs aims both to advance new work on significant themes in ethical theory and to support scholars&mdash\;especially those early in their careers&mdash\;through feedback\, mentorship\, and potential publication opportunities.</p>\n<p>The 2027 ENDs Conference will be held&nbsp\;Friday\, April 30\, and Saturday\, May 1\, 2027. The conference theme for 2027 is&nbsp\;Ethics Beyond Action.</p>
ORGANIZER;CN=Douglas W. Portmore;CN=Katie O'Dell;CN=Tom Dougherty;CN=Cheshire Calhoun:
METHOD:PUBLISH
END:VEVENT
END:VCALENDAR
