BEGIN:VCALENDAR
PRODID:-//Grails iCalendar plugin//NONSGML Grails iCalendar plugin//EN
VERSION:2.0
CALSCALE:GREGORIAN
METHOD:PUBLISH
BEGIN:VEVENT
DTSTAMP:20260421T231443Z
DTSTART;TZID=Europe/Madrid:20260522T090000
DTEND;TZID=Europe/Madrid:20260522T170000
SUMMARY:Attualità della Vita nuova
UID:20260424T181210Z-iCalPlugin-Grails@philevents-web-6b96c54f56-bljdq
TZID:Europe/Madrid
LOCATION:Plaça universitat\, Barcelona\, Spain\, 08007
DESCRIPTION:<p>L&rsquo\;Universit&agrave\; di Barcellona\, in collaborazione con il Seminario Internazionale di Studi Danteschi e la rivista <em>Theory and Criticism of Literature and Arts</em>\, organizza la giornata di studi L&rsquo\;ATTUALIT&Agrave\; DELLA VITA NUOVA&nbsp\;(Barcelona\, 22 maggio). L&rsquo\;incontro si svolger&agrave\; in presenza e in remoto\; per la partecipazione via Zoom &egrave\; richiesta la prenotazione tramite il link fornito dopo la registrazione.</p>
ORGANIZER:
METHOD:PUBLISH
END:VEVENT
END:VCALENDAR
