BEGIN:VCALENDAR
PRODID:-//Grails iCalendar plugin//NONSGML Grails iCalendar plugin//EN
VERSION:2.0
CALSCALE:GREGORIAN
METHOD:PUBLISH
BEGIN:VEVENT
DTSTAMP:20260421T231454Z
DTSTART;TZID=America/Chicago:20260531T234500
DTEND;TZID=America/Chicago:20260531T234500
SUMMARY:Little Conference on Big Bioethics
UID:20260424T181301Z-iCalPlugin-Grails@philevents-web-6b96c54f56-bljdq
TZID:America/Chicago
LOCATION:South Dakota State University\, Brookings\, United States\, 57006
DESCRIPTION:<p>We are pleased to invite proposals for&nbsp\;a conference on Big Bioethics&nbsp\;to be held September 17-19\, 2026&nbsp\;at South Dakota State University in Brookings\, SD.&nbsp\;Proposals that engage ethical issues as they emerge in or are related to theoretical and applied biological&nbsp\;science are welcome\, including work in medical ethics\, genetic ethics\,&nbsp\;environmental ethics\,&nbsp\;ethics of&nbsp\;biology and biotechnology\,&nbsp\;neuroethics\, ethics of psychology\,&nbsp\;bioethics&nbsp\;and law\, experimental bioethics\, and ethics-related work in philosophy of biology\, philosophy of medicine\, and philosophy of health.&nbsp\;&nbsp\;</p>\n<p>Both paper and panel proposals are welcome.&nbsp\;For full consideration\, proposals for individual papers will consist of an anonymized abstract (500-1000&nbsp\;words) and a separate title page which includes the title of the proposed paper\, author name(s)\, institution\, and contact information for the lead author. Each paper presentation should be 20 minutes in length.&nbsp\;</p>\n<p>Panel proposals will include an anonymized abstract&nbsp\;(500-1000 words)&nbsp\;and a separate title page including the names and institutions of panelists and contact information for the panel organizer. Panels may consist of 3-5 members. Panel sessions will be 1.5 hours in length.&nbsp\;&nbsp\;</p>\n<p>Undergraduate students are invited to&nbsp\;submit&nbsp\;abstracts for an undergraduate paper session. Undergraduate paper proposals should follow the same guidelines as those outlined for individual papers above.&nbsp\;&nbsp\;</p>\n<p>The Conference on Big Bioethics&nbsp\;includes&nbsp\;the Annual Bioethics Lecture\,&nbsp\;featuring Leslie Francis (University of Utah) on Friday\, September 18.&nbsp\;</p>\n<p>Proposals&nbsp\;are due May 31\,&nbsp\;2026&nbsp\;and may be&nbsp\;submitted&nbsp\;here:&nbsp\;<a href="https://forms.cloud.microsoft/r/xE8nsLN5jV">Big Bioethics Conference Paper Submission Portal &ndash\; Fill out form</a></p>\n<p>For full and updated information on the conference\, please view the conference website.</p>\n
ORGANIZER;CN=Gregory Peterson;CN=Anthony P Smith:
METHOD:PUBLISH
END:VEVENT
END:VCALENDAR
