BEGIN:VCALENDAR
PRODID:-//Grails iCalendar plugin//NONSGML Grails iCalendar plugin//EN
VERSION:2.0
CALSCALE:GREGORIAN
METHOD:PUBLISH
BEGIN:VEVENT
DTSTAMP:20260423T144620Z
DTSTART;TZID=Europe/Berlin:20260422T181500
DTEND;TZID=Europe/Berlin:20260715T170000
SUMMARY:InterChair Kolloquium
UID:20260429T195124Z-iCalPlugin-Grails@philevents-web-6b96c54f56-bljdq
TZID:Europe/Berlin
LOCATION:Poppelsdorfer Allee 28\, Bonn\, Germany\, 53115
DESCRIPTION:<p>Das InterChair Kolloquium ist ein offenes Forum f&uuml\;r Philosophie\, das die Grenzen von Lehrst&uuml\;hlen und Seminarr&auml\;umen &uuml\;berschreitet und jede:n dazu einl&auml\;dt\, ein selbstgew&auml\;hltes Thema vorzustellen und gemeinsam zu diskutieren &ndash\; egal ob eigene Forschungsarbeit\, Seminararbeit oder pers&ouml\;nliches philosophisches Interesse.&nbsp\; &nbsp\; <br><br>Pr&auml\;sentiert wird in einem Rahmen\, der den Austausch zwischen Studierenden\, Promovierenden und dem weiteren philosophisch Interessierten f&ouml\;rdert. &nbsp\; &nbsp\; <br><br>Immer mittwochs\, 18 Uhr\, IZPH Bonn.<br><br></p>\n<p><strong>Zuh&ouml\;rer sind immer herzlichst eingeladen! Daf&uuml\;r muss man sich nicht anmelden!&nbsp\;</strong></p>\n
ORGANIZER;CN=Dalon Axhimusa:
METHOD:PUBLISH
END:VEVENT
END:VCALENDAR
