BEGIN:VCALENDAR
PRODID:-//Grails iCalendar plugin//NONSGML Grails iCalendar plugin//EN
VERSION:2.0
CALSCALE:GREGORIAN
METHOD:PUBLISH
BEGIN:VEVENT
DTSTAMP:20260423T183507Z
DTSTART;TZID=Europe/Zurich:20260522T090000
DTEND;TZID=Europe/Zurich:20260522T170000
SUMMARY:Philosophy of Journalism
UID:20260430T075115Z-iCalPlugin-Grails@philevents-web-6b96c54f56-bljdq
TZID:Europe/Zurich
LOCATION:UniMail - Bd du Pont-d'Arve 40\, Genève\, Switzerland\, 1205
DESCRIPTION:<p>For more information\, please contact Rub&eacute\;n Marciel (ruben.marciel@unige.ch)</p>
ORGANIZER;CN="Rubén Marciel":
METHOD:PUBLISH
END:VEVENT
END:VCALENDAR
