BEGIN:VCALENDAR
PRODID:-//Grails iCalendar plugin//NONSGML Grails iCalendar plugin//EN
VERSION:2.0
CALSCALE:GREGORIAN
METHOD:PUBLISH
BEGIN:VEVENT
DTSTAMP:20260423T170242Z
DTSTART;TZID=Europe/London:20260429T190000
DTEND;TZID=Europe/London:20260429T203000
SUMMARY:Enchanted Cosmos: The Development of Neo-Shi’ism in Safavid Iran
UID:20260430T025218Z-iCalPlugin-Grails@philevents-web-6b96c54f56-bljdq
TZID:Europe/London
DESCRIPTION:<p>The&nbsp\; Saint Joseph University of Beirut's Philosophy of Religion Seminar (Department of Philosophy) is pleased to invite you to attend the online lecture of Prof. Todd Lawson (University of Toronto) : "Enchanted Cosmos: The Development of Neo-Shi&rsquo\;ism in Safavid Iran."</p>\n<p>This talk examines the transformation of Twelver Shiʿism under the Safavids\, focusing on how its elevation to a state religion reshaped its doctrines\, symbols\, and modes of authority. It explores the emergence of a distinctly Persian-inflected &ldquo\;Neo-Shiʿism\,&rdquo\; marked by new forms of theological imagination and scriptural hermeneutics\, particularly in exegetical traditions that reconfigure Qurʾānic revelation around the authority of the Imams.&nbsp\;Through this lens\, the Safavid period appears as the site of a paradoxical &ldquo\;enchanted cosmos\," in which political consolidation and metaphysical speculation converge to produce new configurations of prophecy\, spiritual authority\, and sacred history.</p>\n<p><strong>Biography</strong></p>\n<p>Todd Lawson is Professor Emeritus of Islamic Thought at the University of Toronto. A leading scholar of Shiʿi and Qurʾānic studies\, his work focuses on early Islamic exegesis\, messianism\, and the development of Shiʿi thought. He is the author of several influential books\, including <em>The Crucifixion and the Qurʾan</em> and <em>Gnostic Apocalypse and Islam</em>\, and has published widely on the Qurʾān\, tafsīr\, and the intellectual history of Islam.</p>\n<p>The lecture will take place online on April 29\, 2026 7pm till 8:30pm (Beirut Time) via Microsoft Teams.&nbsp\;</p>\n<p><a href="https://teams.microsoft.com/meet/394371942724713?p=QnAoKFLIK59cST1l3m">Click here</a> to attend the lecture.</p>\n<p><strong>Meeting ID: </strong>394 371 942 724 713</p>\n<p><strong>Passcode: </strong>FK3B8uE9</p>
ORGANIZER;CN=Hadi Fakhoury:
METHOD:PUBLISH
END:VEVENT
END:VCALENDAR
