BEGIN:VCALENDAR
PRODID:-//Grails iCalendar plugin//NONSGML Grails iCalendar plugin//EN
VERSION:2.0
CALSCALE:GREGORIAN
METHOD:PUBLISH
BEGIN:VEVENT
DTSTAMP:20260424T003157Z
DTSTART;TZID=Europe/Athens:20260430T190000
DTEND;TZID=Europe/Athens:20260430T210000
SUMMARY:Ptolemy through Neoplatonic Eyes
UID:20260430T225735Z-iCalPlugin-Grails@philevents-web-6b96c54f56-bljdq
TZID:Europe/Athens
LOCATION:The Danish Institute\, Chairefontos 14\, Athens\, Greece
DESCRIPTION:<p>https://athensma.phs.uoa.gr/the_program/the_athens_colloquium_in_ancient_philosophy</p>
ORGANIZER:
METHOD:PUBLISH
END:VEVENT
END:VCALENDAR
