BEGIN:VCALENDAR
PRODID:-//Grails iCalendar plugin//NONSGML Grails iCalendar plugin//EN
VERSION:2.0
CALSCALE:GREGORIAN
METHOD:PUBLISH
BEGIN:VEVENT
DTSTAMP:20260423T210112Z
DTSTART;TZID=Europe/London:20260928T090000
DTEND;TZID=Europe/London:20260930T170000
SUMMARY:New Perspectives on Evolution\, Teleology\, and Theology
UID:20260430T150902Z-iCalPlugin-Grails@philevents-web-6b96c54f56-bljdq
TZID:Europe/London
DESCRIPTION:<p>The workshop investigates new perspectives on the relations of evolution\, teleology\, and theology. Although the topic is much discussed\, new developments in both biology\, philosophy of biology\, and theology/philosophy of religion impact how the relation of evolution and teleology is seen.&nbsp\;</p>\n<p>We ask:&nbsp\;What is the relationship between evolutionary theory\, teleology\, and theology? How does evolution\, as a scientific theory\, relate to philosophical views of &ldquo\;unguided&rdquo\; or &ldquo\;guided&rdquo\; evolution?</p>\n<p>\n \n  \n \n\n \n  Normal\n  0\n  false\n  \n  21\n  \n  \n  false\n  false\n  false\n  \n  FI\n  X-NONE\n  X-NONE\n  \n   \n   \n   \n   \n   \n   \n   \n   \n   \n  \n  \n   \n   \n   \n   \n   \n   \n   \n   \n   \n   \n   \n  \n\n <w:LatentStyles DefLockedState="false" DefUnhideWhenUsed="false"\n  DefSemiHidden="false" DefQFormat="false" DefPriority="99"\n  LatentStyleCount="376">\n  \n  \n  <w:LsdException Locked="false" Priority="9" SemiHidden="true"\n   UnhideWhenUsed="true" QFormat="true" Name="heading 2"/>\n  <w:LsdException Locked="false" Priority="9" SemiHidden="true"\n   UnhideWhenUsed="true" QFormat="true" Name="heading 3"/>\n  <w:LsdException Locked="false" Priority="9" SemiHidden="true"\n   UnhideWhenUsed="true" QFormat="true" Name="heading 4"/>\n  <w:LsdException Locked="false" Priority="9" SemiHidden="true"\n   UnhideWhenUsed="true" QFormat="true" Name="heading 5"/>\n  <w:LsdException Locked="false" Priority="9" SemiHidden="true"\n   UnhideWhenUsed="true" QFormat="true" Name="heading 6"/>\n  <w:LsdException Locked="false" Priority="9" SemiHidden="true"\n   UnhideWhenUsed="true" QFormat="true" Name="heading 7"/>\n  <w:LsdException Locked="false" Priority="9" SemiHidden="true"\n   UnhideWhenUsed="true" QFormat="true" Name="heading 8"/>\n  <w:LsdException Locked="false" Priority="9" SemiHidden="true"\n   UnhideWhenUsed="true" QFormat="true" Name="heading 9"/>\n  <w:LsdException Locked="false" SemiHidden="true" UnhideWhenUsed="true"\n   Name="index 1"/>\n  <w:LsdException Locked="false" SemiHidden="true" UnhideWhenUsed="true"\n   Name="index 2"/>\n  <w:LsdException Locked="false" SemiHidden="true" UnhideWhenUsed="true"\n   Name="index 3"/>\n  <w:LsdException Locked="false" SemiHidden="true" UnhideWhenUsed="true"\n   Name="index 4"/>\n  <w:LsdException Locked="false" SemiHidden="true" UnhideWhenUsed="true"\n   Name="index 5"/>\n  <w:LsdException Locked="false" SemiHidden="true" UnhideWhenUsed="true"\n   Name="index 6"/>\n  <w:LsdException Locked="false" SemiHidden="true" UnhideWhenUsed="true"\n   Name="index 7"/>\n  <w:LsdException Locked="false" SemiHidden="true" UnhideWhenUsed="true"\n   Name="index 8"/>\n  <w:LsdException Locked="false" SemiHidden="true" UnhideWhenUsed="true"\n   Name="index 9"/>\n  <w:LsdException Locked="false" Priority="39" SemiHidden="true"\n   UnhideWhenUsed="true" Name="toc 1"/>\n  <w:LsdException Locked="false" Priority="39" SemiHidden="true"\n   UnhideWhenUsed="true" Name="toc 2"/>\n  <w:LsdException Locked="false" Priority="39" SemiHidden="true"\n   UnhideWhenUsed="true" Name="toc 3"/>\n  <w:LsdException Locked="false" Priority="39" SemiHidden="true"\n   UnhideWhenUsed="true" Name="toc 4"/>\n  <w:LsdException Locked="false" Priority="39" SemiHidden="true"\n   UnhideWhenUsed="true" Name="toc 5"/>\n  <w:LsdException Locked="false" Priority="39" SemiHidden="true"\n   UnhideWhenUsed="true" Name="toc 6"/>\n  <w:LsdException Locked="false" Priority="39" SemiHidden="true"\n   UnhideWhenUsed="true" Name="toc 7"/>\n  <w:LsdException Locked="false" Priority="39" SemiHidden="true"\n   UnhideWhenUsed="true" Name="toc 8"/>\n  <w:LsdException Locked="false" Priority="39" SemiHidden="true"\n   UnhideWhenUsed="true" Name="toc 9"/>\n  <w:LsdException Locked="false" SemiHidden="true" UnhideWhenUsed="true"\n   Name="Normal Indent"/>\n  <w:LsdException Locked="false" SemiHidden="true" UnhideWhenUsed="true"\n   Name="footnote text"/>\n  <w:LsdException Locked="false" SemiHidden="true" UnhideWhenUsed="true"\n   Name="annotation text"/>\n  <w:LsdException Locked="false" SemiHidden="true" UnhideWhenUsed="true"\n   Name="header"/>\n  <w:LsdException Locked="false" SemiHidden="true" UnhideWhenUsed="true"\n   Name="footer"/>\n  <w:LsdException Locked="false" SemiHidden="true" UnhideWhenUsed="true"\n   Name="index heading"/>\n  <w:LsdException Locked="false" Priority="35" SemiHidden="true"\n   UnhideWhenUsed="true" QFormat="true" Name="caption"/>\n  <w:LsdException Locked="false" SemiHidden="true" UnhideWhenUsed="true"\n   Name="table of figures"/>\n  <w:LsdException Locked="false" SemiHidden="true" UnhideWhenUsed="true"\n   Name="envelope address"/>\n  <w:LsdException Locked="false" SemiHidden="true" UnhideWhenUsed="true"\n   Name="envelope return"/>\n  <w:LsdException Locked="false" SemiHidden="true" UnhideWhenUsed="true"\n   Name="footnote reference"/>\n  <w:LsdException Locked="false" SemiHidden="true" UnhideWhenUsed="true"\n   Name="annotation reference"/>\n  <w:LsdException Locked="false" SemiHidden="true" UnhideWhenUsed="true"\n   Name="line number"/>\n  <w:LsdException Locked="false" SemiHidden="true" UnhideWhenUsed="true"\n   Name="page number"/>\n  <w:LsdException Locked="false" SemiHidden="true" UnhideWhenUsed="true"\n   Name="endnote reference"/>\n  <w:LsdException Locked="false" SemiHidden="true" UnhideWhenUsed="true"\n   Name="endnote text"/>\n  <w:LsdException Locked="false" SemiHidden="true" UnhideWhenUsed="true"\n   Name="table of authorities"/>\n  <w:LsdException Locked="false" SemiHidden="true" UnhideWhenUsed="true"\n   Name="macro"/>\n  <w:LsdException Locked="false" SemiHidden="true" UnhideWhenUsed="true"\n   Name="toa heading"/>\n  <w:LsdException Locked="false" SemiHidden="true" UnhideWhenUsed="true"\n   Name="List"/>\n  <w:LsdException Locked="false" SemiHidden="true" UnhideWhenUsed="true"\n   Name="List Bullet"/>\n  <w:LsdException Locked="false" SemiHidden="true" UnhideWhenUsed="true"\n   Name="List Number"/>\n  <w:LsdException Locked="false" SemiHidden="true" UnhideWhenUsed="true"\n   Name="List 2"/>\n  <w:LsdException Locked="false" SemiHidden="true" UnhideWhenUsed="true"\n   Name="List 3"/>\n  <w:LsdException Locked="false" SemiHidden="true" UnhideWhenUsed="true"\n   Name="List 4"/>\n  <w:LsdException Locked="false" SemiHidden="true" UnhideWhenUsed="true"\n   Name="List 5"/>\n  <w:LsdException Locked="false" SemiHidden="true" UnhideWhenUsed="true"\n   Name="List Bullet 2"/>\n  <w:LsdException Locked="false" SemiHidden="true" UnhideWhenUsed="true"\n   Name="List Bullet 3"/>\n  <w:LsdException Locked="false" SemiHidden="true" UnhideWhenUsed="true"\n   Name="List Bullet 4"/>\n  <w:LsdException Locked="false" SemiHidden="true" UnhideWhenUsed="true"\n   Name="List Bullet 5"/>\n  <w:LsdException Locked="false" SemiHidden="true" UnhideWhenUsed="true"\n   Name="List Number 2"/>\n  <w:LsdException Locked="false" SemiHidden="true" UnhideWhenUsed="true"\n   Name="List Number 3"/>\n  <w:LsdException Locked="false" SemiHidden="true" UnhideWhenUsed="true"\n   Name="List Number 4"/>\n  <w:LsdException Locked="false" SemiHidden="true" UnhideWhenUsed="true"\n   Name="List Number 5"/>\n  \n  <w:LsdException Locked="false" SemiHidden="true" UnhideWhenUsed="true"\n   Name="Closing"/>\n  <w:LsdException Locked="false" SemiHidden="true" UnhideWhenUsed="true"\n   Name="Signature"/>\n  <w:LsdException Locked="false" Priority="1" SemiHidden="true"\n   UnhideWhenUsed="true" Name="Default Paragraph Font"/>\n  <w:LsdException Locked="false" SemiHidden="true" UnhideWhenUsed="true"\n   Name="Body Text"/>\n  <w:LsdException Locked="false" SemiHidden="true" UnhideWhenUsed="true"\n   Name="Body Text Indent"/>\n  <w:LsdException Locked="false" SemiHidden="true" UnhideWhenUsed="true"\n   Name="List Continue"/>\n  <w:LsdException Locked="false" SemiHidden="true" UnhideWhenUsed="true"\n   Name="List Continue 2"/>\n  <w:LsdException Locked="false" SemiHidden="true" UnhideWhenUsed="true"\n   Name="List Continue 3"/>\n  <w:LsdException Locked="false" SemiHidden="true" UnhideWhenUsed="true"\n   Name="List Continue 4"/>\n  <w:LsdException Locked="false" SemiHidden="true" UnhideWhenUsed="true"\n   Name="List Continue 5"/>\n  <w:LsdException Locked="false" SemiHidden="true" UnhideWhenUsed="true"\n   Name="Message Header"/>\n  \n  <w:LsdException Locked="false" SemiHidden="true" UnhideWhenUsed="true"\n   Name="Salutation"/>\n  <w:LsdException Locked="false" SemiHidden="true" UnhideWhenUsed="true"\n   Name="Date"/>\n  <w:LsdException Locked="false" SemiHidden="true" UnhideWhenUsed="true"\n   Name="Body Text First Indent"/>\n  <w:LsdException Locked="false" SemiHidden="true" UnhideWhenUsed="true"\n   Name="Body Text First Indent 2"/>\n  <w:LsdException Locked="false" SemiHidden="true" UnhideWhenUsed="true"\n   Name="Note Heading"/>\n  <w:LsdException Locked="false" SemiHidden="true" UnhideWhenUsed="true"\n   Name="Body Text 2"/>\n  <w:LsdException Locked="false" SemiHidden="true" UnhideWhenUsed="true"\n   Name="Body Text 3"/>\n  <w:LsdException Locked="false" SemiHidden="true" UnhideWhenUsed="true"\n   Name="Body Text Indent 2"/>\n  <w:LsdException Locked="false" SemiHidden="true" UnhideWhenUsed="true"\n   Name="Body Text Indent 3"/>\n  <w:LsdException Locked="false" SemiHidden="true" UnhideWhenUsed="true"\n   Name="Block Text"/>\n  <w:LsdException Locked="false" SemiHidden="true" UnhideWhenUsed="true"\n   Name="Hyperlink"/>\n  <w:LsdException Locked="false" SemiHidden="true" UnhideWhenUsed="true"\n   Name="FollowedHyperlink"/>\n  \n  \n  <w:LsdException Locked="false" SemiHidden="true" UnhideWhenUsed="true"\n   Name="Document Map"/>\n  <w:LsdException Locked="false" SemiHidden="true" UnhideWhenUsed="true"\n   Name="Plain Text"/>\n  <w:LsdException Locked="false" SemiHidden="true" UnhideWhenUsed="true"\n   Name="E-mail Signature"/>\n  <w:LsdException Locked="false" SemiHidden="true" UnhideWhenUsed="true"\n   Name="HTML Top of Form"/>\n  <w:LsdException Locked="false" SemiHidden="true" UnhideWhenUsed="true"\n   Name="HTML Bottom of Form"/>\n  <w:LsdException Locked="false" SemiHidden="true" UnhideWhenUsed="true"\n   Name="Normal (Web)"/>\n  <w:LsdException Locked="false" SemiHidden="true" UnhideWhenUsed="true"\n   Name="HTML Acronym"/>\n  <w:LsdException Locked="false" SemiHidden="true" UnhideWhenUsed="true"\n   Name="HTML Address"/>\n  <w:LsdException Locked="false" SemiHidden="true" UnhideWhenUsed="true"\n   Name="HTML Cite"/>\n  <w:LsdException Locked="false" SemiHidden="true" UnhideWhenUsed="true"\n   Name="HTML Code"/>\n  <w:LsdException Locked="false" SemiHidden="true" UnhideWhenUsed="true"\n   Name="HTML Definition"/>\n  <w:LsdException Locked="false" SemiHidden="true" UnhideWhenUsed="true"\n   Name="HTML Keyboard"/>\n  <w:LsdException Locked="false" SemiHidden="true" UnhideWhenUsed="true"\n   Name="HTML Preformatted"/>\n  <w:LsdException Locked="false" SemiHidden="true" UnhideWhenUsed="true"\n   Name="HTML Sample"/>\n  <w:LsdException Locked="false" SemiHidden="true" UnhideWhenUsed="true"\n   Name="HTML Typewriter"/>\n  <w:LsdException Locked="false" SemiHidden="true" UnhideWhenUsed="true"\n   Name="HTML Variable"/>\n  <w:LsdException Locked="false" SemiHidden="true" UnhideWhenUsed="true"\n   Name="Normal Table"/>\n  <w:LsdException Locked="false" SemiHidden="true" UnhideWhenUsed="true"\n   Name="annotation subject"/>\n  <w:LsdException Locked="false" SemiHidden="true" UnhideWhenUsed="true"\n   Name="No List"/>\n  <w:LsdException Locked="false" SemiHidden="true" UnhideWhenUsed="true"\n   Name="Outline List 1"/>\n  <w:LsdException Locked="false" SemiHidden="true" UnhideWhenUsed="true"\n   Name="Outline List 2"/>\n  <w:LsdException Locked="false" SemiHidden="true" UnhideWhenUsed="true"\n   Name="Outline List 3"/>\n  <w:LsdException Locked="false" SemiHidden="true" UnhideWhenUsed="true"\n   Name="Table Simple 1"/>\n  <w:LsdException Locked="false" SemiHidden="true" UnhideWhenUsed="true"\n   Name="Table Simple 2"/>\n  <w:LsdException Locked="false" SemiHidden="true" UnhideWhenUsed="true"\n   Name="Table Simple 3"/>\n  <w:LsdException Locked="false" SemiHidden="true" UnhideWhenUsed="true"\n   Name="Table Classic 1"/>\n  <w:LsdException Locked="false" SemiHidden="true" UnhideWhenUsed="true"\n   Name="Table Classic 2"/>\n  <w:LsdException Locked="false" SemiHidden="true" UnhideWhenUsed="true"\n   Name="Table Classic 3"/>\n  <w:LsdException Locked="false" SemiHidden="true" UnhideWhenUsed="true"\n   Name="Table Classic 4"/>\n  <w:LsdException Locked="false" SemiHidden="true" UnhideWhenUsed="true"\n   Name="Table Colorful 1"/>\n  <w:LsdException Locked="false" SemiHidden="true" UnhideWhenUsed="true"\n   Name="Table Colorful 2"/>\n  <w:LsdException Locked="false" SemiHidden="true" UnhideWhenUsed="true"\n   Name="Table Colorful 3"/>\n  <w:LsdException Locked="false" SemiHidden="true" UnhideWhenUsed="true"\n   Name="Table Columns 1"/>\n  <w:LsdException Locked="false" SemiHidden="true" UnhideWhenUsed="true"\n   Name="Table Columns 2"/>\n  <w:LsdException Locked="false" SemiHidden="true" UnhideWhenUsed="true"\n   Name="Table Columns 3"/>\n  <w:LsdException Locked="false" SemiHidden="true" UnhideWhenUsed="true"\n   Name="Table Columns 4"/>\n  <w:LsdException Locked="false" SemiHidden="true" UnhideWhenUsed="true"\n   Name="Table Columns 5"/>\n  <w:LsdException Locked="false" SemiHidden="true" UnhideWhenUsed="true"\n   Name="Table Grid 1"/>\n  <w:LsdException Locked="false" SemiHidden="true" UnhideWhenUsed="true"\n   Name="Table Grid 2"/>\n  <w:LsdException Locked="false" SemiHidden="true" UnhideWhenUsed="true"\n   Name="Table Grid 3"/>\n  <w:LsdException Locked="false" SemiHidden="true" UnhideWhenUsed="true"\n   Name="Table Grid 4"/>\n  <w:LsdException Locked="false" SemiHidden="true" UnhideWhenUsed="true"\n   Name="Table Grid 5"/>\n  <w:LsdException Locked="false" SemiHidden="true" UnhideWhenUsed="true"\n   Name="Table Grid 6"/>\n  <w:LsdException Locked="false" SemiHidden="true" UnhideWhenUsed="true"\n   Name="Table Grid 7"/>\n  <w:LsdException Locked="false" SemiHidden="true" UnhideWhenUsed="true"\n   Name="Table Grid 8"/>\n  <w:LsdException Locked="false" SemiHidden="true" UnhideWhenUsed="true"\n   Name="Table List 1"/>\n  <w:LsdException Locked="false" SemiHidden="true" UnhideWhenUsed="true"\n   Name="Table List 2"/>\n  <w:LsdException Locked="false" SemiHidden="true" UnhideWhenUsed="true"\n   Name="Table List 3"/>\n  <w:LsdException Locked="false" SemiHidden="true" UnhideWhenUsed="true"\n   Name="Table List 4"/>\n  <w:LsdException Locked="false" SemiHidden="true" UnhideWhenUsed="true"\n   Name="Table List 5"/>\n  <w:LsdException Locked="false" SemiHidden="true" UnhideWhenUsed="true"\n   Name="Table List 6"/>\n  <w:LsdException Locked="false" SemiHidden="true" UnhideWhenUsed="true"\n   Name="Table List 7"/>\n  <w:LsdException Locked="false" SemiHidden="true" UnhideWhenUsed="true"\n   Name="Table List 8"/>\n  <w:LsdException Locked="false" SemiHidden="true" UnhideWhenUsed="true"\n   Name="Table 3D effects 1"/>\n  <w:LsdException Locked="false" SemiHidden="true" UnhideWhenUsed="true"\n   Name="Table 3D effects 2"/>\n  <w:LsdException Locked="false" SemiHidden="true" UnhideWhenUsed="true"\n   Name="Table 3D effects 3"/>\n  <w:LsdException Locked="false" SemiHidden="true" UnhideWhenUsed="true"\n   Name="Table Contemporary"/>\n  <w:LsdException Locked="false" SemiHidden="true" UnhideWhenUsed="true"\n   Name="Table Elegant"/>\n  <w:LsdException Locked="false" SemiHidden="true" UnhideWhenUsed="true"\n   Name="Table Professional"/>\n  <w:LsdException Locked="false" SemiHidden="true" UnhideWhenUsed="true"\n   Name="Table Subtle 1"/>\n  <w:LsdException Locked="false" SemiHidden="true" UnhideWhenUsed="true"\n   Name="Table Subtle 2"/>\n  <w:LsdException Locked="false" SemiHidden="true" UnhideWhenUsed="true"\n   Name="Table Web 1"/>\n  <w:LsdException Locked="false" SemiHidden="true" UnhideWhenUsed="true"\n   Name="Table Web 2"/>\n  <w:LsdException Locked="false" SemiHidden="true" UnhideWhenUsed="true"\n   Name="Table Web 3"/>\n  <w:LsdException Locked="false" SemiHidden="true" UnhideWhenUsed="true"\n   Name="Balloon Text"/>\n  \n  <w:LsdException Locked="false" SemiHidden="true" UnhideWhenUsed="true"\n   Name="Table Theme"/>\n  \n  \n  \n  \n  \n  \n  \n  \n  \n  \n  \n  \n  \n  \n  \n  \n  \n  \n  \n  \n  \n  \n  \n  <w:LsdException Locked="false" Priority="34" QFormat="true"\n   Name="List Paragraph"/>\n  \n  <w:LsdException Locked="false" Priority="30" QFormat="true"\n   Name="Intense Quote"/>\n  \n  \n  \n  \n  \n  \n  \n  \n  \n  \n  \n  \n  \n  \n  \n  \n  \n  \n  \n  \n  \n  \n  \n  \n  \n  \n  \n  \n  \n  \n  \n  \n  \n  \n  \n  \n  \n  \n  \n  \n  \n  \n  \n  \n  \n  \n  \n  \n  \n  \n  \n  \n  \n  \n  \n  \n  \n  \n  \n  \n  \n  \n  \n  \n  \n  \n  \n  \n  \n  \n  \n  \n  \n  \n  \n  \n  \n  \n  <w:LsdException Locked="false" Priority="19" QFormat="true"\n   Name="Subtle Emphasis"/>\n  <w:LsdException Locked="false" Priority="21" QFormat="true"\n   Name="Intense Emphasis"/>\n  <w:LsdException Locked="false" Priority="31" QFormat="true"\n   Name="Subtle Reference"/>\n  <w:LsdException Locked="false" Priority="32" QFormat="true"\n   Name="Intense Reference"/>\n  \n  <w:LsdException Locked="false" Priority="37" SemiHidden="true"\n   UnhideWhenUsed="true" Name="Bibliography"/>\n  <w:LsdException Locked="false" Priority="39" SemiHidden="true"\n   UnhideWhenUsed="true" QFormat="true" Name="TOC Heading"/>\n  \n  \n  \n  \n  \n  \n  \n  \n  \n  \n  \n  \n  \n  <w:LsdException Locked="false" Priority="46"\n   Name="Grid Table 1 Light Accent 1"/>\n  \n  \n  \n  \n  <w:LsdException Locked="false" Priority="51"\n   Name="Grid Table 6 Colorful Accent 1"/>\n  <w:LsdException Locked="false" Priority="52"\n   Name="Grid Table 7 Colorful Accent 1"/>\n  <w:LsdException Locked="false" Priority="46"\n   Name="Grid Table 1 Light Accent 2"/>\n  \n  \n  \n  \n  <w:LsdException Locked="false" Priority="51"\n   Name="Grid Table 6 Colorful Accent 2"/>\n  <w:LsdException Locked="false" Priority="52"\n   Name="Grid Table 7 Colorful Accent 2"/>\n  <w:LsdException Locked="false" Priority="46"\n   Name="Grid Table 1 Light Accent 3"/>\n  \n  \n  \n  \n  <w:LsdException Locked="false" Priority="51"\n   Name="Grid Table 6 Colorful Accent 3"/>\n  <w:LsdException Locked="false" Priority="52"\n   Name="Grid Table 7 Colorful Accent 3"/>\n  <w:LsdException Locked="false" Priority="46"\n   Name="Grid Table 1 Light Accent 4"/>\n  \n  \n  \n  \n  <w:LsdException Locked="false" Priority="51"\n   Name="Grid Table 6 Colorful Accent 4"/>\n  <w:LsdException Locked="false" Priority="52"\n   Name="Grid Table 7 Colorful Accent 4"/>\n  <w:LsdException Locked="false" Priority="46"\n   Name="Grid Table 1 Light Accent 5"/>\n  \n  \n  \n  \n  <w:LsdException Locked="false" Priority="51"\n   Name="Grid Table 6 Colorful Accent 5"/>\n  <w:LsdException Locked="false" Priority="52"\n   Name="Grid Table 7 Colorful Accent 5"/>\n  <w:LsdException Locked="false" Priority="46"\n   Name="Grid Table 1 Light Accent 6"/>\n  \n  \n  \n  \n  <w:LsdException Locked="false" Priority="51"\n   Name="Grid Table 6 Colorful Accent 6"/>\n  <w:LsdException Locked="false" Priority="52"\n   Name="Grid Table 7 Colorful Accent 6"/>\n  \n  \n  \n  \n  \n  \n  \n  <w:LsdException Locked="false" Priority="46"\n   Name="List Table 1 Light Accent 1"/>\n  \n  \n  \n  \n  <w:LsdException Locked="false" Priority="51"\n   Name="List Table 6 Colorful Accent 1"/>\n  <w:LsdException Locked="false" Priority="52"\n   Name="List Table 7 Colorful Accent 1"/>\n  <w:LsdException Locked="false" Priority="46"\n   Name="List Table 1 Light Accent 2"/>\n  \n  \n  \n  \n  <w:LsdException Locked="false" Priority="51"\n   Name="List Table 6 Colorful Accent 2"/>\n  <w:LsdException Locked="false" Priority="52"\n   Name="List Table 7 Colorful Accent 2"/>\n  <w:LsdException Locked="false" Priority="46"\n   Name="List Table 1 Light Accent 3"/>\n  \n  \n  \n  \n  <w:LsdException Locked="false" Priority="51"\n   Name="List Table 6 Colorful Accent 3"/>\n  <w:LsdException Locked="false" Priority="52"\n   Name="List Table 7 Colorful Accent 3"/>\n  <w:LsdException Locked="false" Priority="46"\n   Name="List Table 1 Light Accent 4"/>\n  \n  \n  \n  \n  <w:LsdException Locked="false" Priority="51"\n   Name="List Table 6 Colorful Accent 4"/>\n  <w:LsdException Locked="false" Priority="52"\n   Name="List Table 7 Colorful Accent 4"/>\n  <w:LsdException Locked="false" Priority="46"\n   Name="List Table 1 Light Accent 5"/>\n  \n  \n  \n  \n  <w:LsdException Locked="false" Priority="51"\n   Name="List Table 6 Colorful Accent 5"/>\n  <w:LsdException Locked="false" Priority="52"\n   Name="List Table 7 Colorful Accent 5"/>\n  <w:LsdException Locked="false" Priority="46"\n   Name="List Table 1 Light Accent 6"/>\n  \n  \n  \n  \n  <w:LsdException Locked="false" Priority="51"\n   Name="List Table 6 Colorful Accent 6"/>\n  <w:LsdException Locked="false" Priority="52"\n   Name="List Table 7 Colorful Accent 6"/>\n  <w:LsdException Locked="false" SemiHidden="true" UnhideWhenUsed="true"\n   Name="Mention"/>\n  <w:LsdException Locked="false" SemiHidden="true" UnhideWhenUsed="true"\n   Name="Smart Hyperlink"/>\n  <w:LsdException Locked="false" SemiHidden="true" UnhideWhenUsed="true"\n   Name="Hashtag"/>\n  <w:LsdException Locked="false" SemiHidden="true" UnhideWhenUsed="true"\n   Name="Unresolved Mention"/>\n  <w:LsdException Locked="false" SemiHidden="true" UnhideWhenUsed="true"\n   Name="Smart Link"/>\n \n\n\n /* Style Definitions */\n table.MsoNormalTable\n	{mso-style-name:"Normaali taulukko"\;\n	mso-tstyle-rowband-size:0\;\n	mso-tstyle-colband-size:0\;\n	mso-style-noshow:yes\;\n	mso-style-priority:99\;\n	mso-style-parent:""\;\n	mso-padding-alt:0cm 5.4pt 0cm 5.4pt\;\n	mso-para-margin-top:0cm\;\n	mso-para-margin-right:0cm\;\n	mso-para-margin-bottom:8.0pt\;\n	mso-para-margin-left:0cm\;\n	line-height:107%\;\n	mso-pagination:widow-orphan\;\n	font-size:11.0pt\;\n	font-family:"Aptos"\,sans-serif\;\n	mso-ascii-font-family:Aptos\;\n	mso-ascii-theme-font:minor-latin\;\n	mso-hansi-font-family:Aptos\;\n	mso-hansi-theme-font:minor-latin\;\n	mso-font-kerning:1.0pt\;\n	mso-ligatures:standardcontextual\;\n	mso-fareast-language:EN-US\;}\n\n</p>\n<p>We invite papers focusing on one of the following four themes in relation to the workshop topic: (1) Varieties of Evolutionary Teleological Views\, (2) Explanatory Power and Methodological Considerations\, (3) The Impact of New Scientific Perspectives\, and (4) Theological Perspectives and Worldviews. Contributions can come from scientists\, philosophers\, theologians\, and historians. Please see further details at the event website.</p>\n
ORGANIZER:
METHOD:PUBLISH
END:VEVENT
END:VCALENDAR
