BEGIN:VCALENDAR
PRODID:-//Grails iCalendar plugin//NONSGML Grails iCalendar plugin//EN
VERSION:2.0
CALSCALE:GREGORIAN
METHOD:PUBLISH
BEGIN:VEVENT
DTSTAMP:20260423T211649Z
DTSTART;TZID=Europe/London:20260630T234500
DTEND;TZID=Europe/London:20260630T234500
SUMMARY:New Perspectives on Evolution\, Teleology\, and Theology
UID:20260430T154153Z-iCalPlugin-Grails@philevents-web-6b96c54f56-bljdq
TZID:Europe/London
DESCRIPTION:<p>The workshop investigates new perspectives on the relations of evolution\, teleology\, and theology. Although the topic is much discussed\, new developments in both biology\, philosophy of biology\, and theology/philosophy of religion impact how the relation of evolution and teleology is seen.&nbsp\;</p>\n<p>We ask:&nbsp\;What is the relationship between evolutionary theory\, teleology\, and theology? How does evolution\, as a scientific theory\, relate to philosophical views of &ldquo\;unguided&rdquo\; or &ldquo\;guided&rdquo\; evolution?</p>\n<p>We invite papers focusing on one of the following four themes in relation to the workshop topic: (1) Varieties of Evolutionary Teleological Views\, (2) Explanatory Power and Methodological Considerations\, (3) The Impact of New Scientific Perspectives\, and (4) Theological Perspectives and Worldviews. Contributions can come from scientists\, philosophers\, theologians\, and historians. Please see further details at the event website and contact the organizers\, E. V. Rope Kojonen (Faculty of Theology\, University of Helsinki) or Zachary Ardern (Wellcome Sanger Institute\, Cambridge) if you have questions.</p>
ORGANIZER:
METHOD:PUBLISH
END:VEVENT
END:VCALENDAR
