BEGIN:VCALENDAR
PRODID:-//Grails iCalendar plugin//NONSGML Grails iCalendar plugin//EN
VERSION:2.0
CALSCALE:GREGORIAN
METHOD:PUBLISH
BEGIN:VEVENT
DTSTAMP:20260424T022144Z
DTSTART;TZID=Europe/Dublin:20260608T100000
DTEND;TZID=Europe/Dublin:20260609T170000
SUMMARY:British Moral Philosophy Workshop
UID:20260501T015911Z-iCalPlugin-Grails@philevents-web-6b96c54f56-bljdq
TZID:Europe/Dublin
LOCATION:UCD School of Philosophy\, Newman Building\, Dublin\, Ireland\, Dublin 4
DESCRIPTION:<p><strong>British Moral Philosophy Workshop</strong></p>\n\n<p>8&ndash\;9 June 2026</p>\n\n<p>School of Philosophy</p>\n<p>Agnes Cuming Seminar Room\, D520</p>\n<p>Newman Building</p>\n<p>University College Dublin&nbsp\;</p>\n\n\n<p><strong>Monday 8 June 2026</strong></p>\n\n<p>10:00&ndash\;11:15&nbsp\;&nbsp\;&nbsp\;&nbsp\;&nbsp\;James Mackey (University College Dublin)\, &ldquo\;Malebranche\, Norris\, and the Backdrop to Mary Astell's View on Moral Motivation&rdquo\;</p>\n\n<p>11:30&ndash\;12:45&nbsp\;&nbsp\;&nbsp\;&nbsp\;&nbsp\;Jacqueline Broad (Monash University)\, &ldquo\;Learning to Live Naturally: Stoic Ethics in Early Modern Arguments for Women&rsquo\;s Education&rdquo\;</p>\n\n<p>Lunch Break</p>\n\n<p>14:00&ndash\;15:15&nbsp\;&nbsp\;&nbsp\;&nbsp\;&nbsp\;Silvia Di Girolamo (University College Dublin)\, &ldquo\;From Ink to Insight: Transcribing Religious Meditations of Elizabeth Berkeley Burnet (MS Rawlinson D1092\, fol.136&ndash\;203)&rdquo\;</p>\n\n<p>15:30&ndash\;16:45&nbsp\;&nbsp\;&nbsp\;&nbsp\;&nbsp\;Ruth Boeker (University College Dublin)\, &ldquo\;Masham on Intellectual\, Moral\, and Religious Improvement&rdquo\;&nbsp\;</p>\n\n\n\n<p><strong>Tuesday 9 June 2026&nbsp\;</strong></p>\n\n<p>10:00&ndash\;11:15&nbsp\;&nbsp\;&nbsp\;&nbsp\;&nbsp\;Suchana Datta (University College Dublin)\, &ldquo\;PhilarXiv: A Platform for Semantic Analysis and Curation of British Moral Texts&rdquo\;</p>\n\n<p>11:30&ndash\;12:45&nbsp\;&nbsp\;&nbsp\;&nbsp\;&nbsp\;Pietro M. Lucantoni (University College Dublin)\, &ldquo\;Catharine Macaulay on Our Power and Responsibilities towards Non-Human Animals&rdquo\;</p>\n\n<p>Lunch Break</p>\n\n<p>14:00&ndash\;15:15&nbsp\;&nbsp\;&nbsp\;&nbsp\;&nbsp\;Getty Lustila (Northeastern University)\, &ldquo\;Catharine Macaulay and the Firmness of Mind&rdquo\;</p>\n\n<p>15:30&ndash\;16:15&nbsp\;&nbsp\;&nbsp\;&nbsp\;&nbsp\;Discussion on future directions for research on British Moral Philosophy</p>\n\n\n<p>This workshop is funded by the European Union (ERC\, BMoral\,&nbsp\;101169707). Views and opinions expressed are however those of the author(s) only and do not necessarily reflect those of the European Union or the European Research Council. Neither the European Union nor the granting authority can be held responsible for them.</p>
ORGANIZER;CN=Ruth Boeker:
METHOD:PUBLISH
END:VEVENT
END:VCALENDAR
