BEGIN:VCALENDAR
PRODID:-//Grails iCalendar plugin//NONSGML Grails iCalendar plugin//EN
VERSION:2.0
CALSCALE:GREGORIAN
METHOD:PUBLISH
BEGIN:VEVENT
DTSTAMP:20260425T210458Z
DTSTART;TZID=Europe/Rome:20260518T090000
DTEND;TZID=Europe/Rome:20260518T170000
SUMMARY:May 18: Love and Communion in the Thought of Dietrich von Hildebrand
UID:20260427T203617Z-iCalPlugin-Grails@philevents-web-6b96c54f56-bljdq
TZID:Europe/Rome
LOCATION:Roma\, Italy
DESCRIPTION:<p>We are pleased to announce the first Study Day of the Hildebrand Chair for Christian Personalism (Faculty of Philosophy)\, conceived in response to the publication of the Doctrinal Note of the Dicastery for the Doctrine of the Faith\,&nbsp\;<em>Una caro: In Praise of Monogamy</em>&nbsp\;(November 2025).</p>\n<p>The document marks a historic milestone: the first extensive citation of Dietrich and Alice von Hildebrand in an official doctrinal text. Starting from the fundamental works of the Hildebrand couple\, the Conference will explore the original truth of the person who finds fulfillment in the gift of self and in the formation of the &ldquo\;we\,&rdquo\; bringing personalist philosophy into dialogue with the&nbsp\;<em>philosophia perennis</em>&nbsp\;and the magisterium of Saint John Paul II.</p>\n<p><strong>Event Program</strong></p>\n<p><strong>09:00 AM &ndash\; Institutional Welcoming Remarks</strong>&nbsp\;Fr. Alberto Carrara\, L.C.\, Dean of the Faculty of Philosophy &ndash\;&nbsp\;<strong>Pontifical Athenaeum Regina Apostolorum</strong></p>\n<p><strong>09:30 AM &ndash\; Opening Session</strong>&nbsp\;John Henry Crosby\, President of the Hildebrand Project</p>\n<p><strong>Speakers</strong>&nbsp\;Rocco Buttiglione\, John F. Crosby\, Elisa Grimi\, Rodrigo Guerra L&oacute\;pez\, Robert McNamara\, Fr. Eamonn O&rsquo\;Higgins\, L.C.\, Marta Rodr&iacute\;guez D&iacute\;az.</p>
ORGANIZER:
METHOD:PUBLISH
END:VEVENT
END:VCALENDAR
