BEGIN:VCALENDAR
PRODID:-//Grails iCalendar plugin//NONSGML Grails iCalendar plugin//EN
VERSION:2.0
CALSCALE:GREGORIAN
METHOD:PUBLISH
BEGIN:VEVENT
DTSTAMP:20260425T210342Z
DTSTART;TZID=Europe/Rome:20260508T230000
DTEND;TZID=Europe/Rome:20260508T230000
SUMMARY:May 18: Love and Communion in the Thought of Dietrich von Hildebrand
UID:20260427T203517Z-iCalPlugin-Grails@philevents-web-6b96c54f56-bljdq
TZID:Europe/Rome
LOCATION:Roma\, Italy
DESCRIPTION:<p>We are pleased to announce the first Study Day of the Hildebrand Chair for Christian Personalism (Faculty of Philosophy)\, conceived in response to the publication of the Doctrinal Note of the Dicastery for the Doctrine of the Faith\,&nbsp\;<em>Una caro: In Praise of Monogamy</em>&nbsp\;(November 2025).</p>\n<p>The document marks a historic milestone: the first extensive citation of Dietrich and Alice von Hildebrand in an official doctrinal text. Starting from the fundamental works of the Hildebrand couple\, the Conference will explore the original truth of the person who finds fulfillment in the gift of self and in the formation of the &ldquo\;we\,&rdquo\; bringing personalist philosophy into dialogue with the&nbsp\;<em>philosophia perennis</em>&nbsp\;and the magisterium of Saint John Paul II.</p>\n<p><strong>Event Program</strong></p>\n<p><strong>09:00 AM &ndash\; Institutional Welcoming Remarks</strong>&nbsp\;Fr. Alberto Carrara\, L.C.\, Dean of the Faculty of Philosophy &ndash\;&nbsp\;<strong>Pontifical Athenaeum Regina Apostolorum</strong></p>\n<p><strong>09:30 AM &ndash\; Opening Session</strong>&nbsp\;John Henry Crosby\, President of the Hildebrand Project</p>\n<p><strong>Speakers</strong>&nbsp\;Rocco Buttiglione\, John F. Crosby\, Elisa Grimi\, Rodrigo Guerra L&oacute\;pez\, Robert McNamara\, Fr. Eamonn O&rsquo\;Higgins\, L.C.\, Marta Rodr&iacute\;guez D&iacute\;az.&nbsp\;</p>\nCall for Papers\n<p>We invite scholars who have obtained or are pursuing a PhD\, young researchers\, and professors to submit proposals for contributions to the study day.</p>\n<p><strong>Core Themes</strong></p>\n<p>Contributions must be relevant to the theme of the Study Day\, with particular reference to:</p>\n<ul>\n<li>\n<p>Christian Personalism</p>\n</li>\n<li>\n<p>The thought of Dietrich and/or Alice von Hildebrand (with a focus on: love\, communion\, freedom\, truth\, virtue)</p>\n</li>\n<li>\n<p>Philosophical and theological implications of&nbsp\;<em>Una Caro</em></p>\n</li>\n</ul>\n<p><strong>Submission Guidelines</strong></p>\n<p>Candidates are invited to send their proposals to&nbsp\;<strong>cattedrahildebrand@upra.org</strong></a>&nbsp\;including:</p>\n<ul>\n<li>\n<p>Title of the presentation</p>\n</li>\n<li>\n<p>Abstract: maximum 300 words</p>\n</li>\n<li>\n<p>Short biographical note: name\, surname\, institutional affiliation\, and research areas</p>\n</li>\n</ul>\n<p><strong>Important Dates</strong></p>\n<ul>\n<li>\n<p><strong>Submission deadline:</strong>&nbsp\;by May 8\, 2026</p>\n</li>\n<li>\n<p><strong>Notification of acceptance:</strong>&nbsp\;by May 11\, 2026</p>\n</li>\n</ul>\n<p><strong>Language</strong></p>\n<p>The official language is Italian. Presentations may be delivered in English\, provided that a written version in Italian is also supplied.</p>\n<p><strong>Contact:</strong>&nbsp\;cattedrahildebrand@upra.org</a></p>
ORGANIZER:
METHOD:PUBLISH
END:VEVENT
END:VCALENDAR
