BEGIN:VCALENDAR
PRODID:-//Grails iCalendar plugin//NONSGML Grails iCalendar plugin//EN
VERSION:2.0
CALSCALE:GREGORIAN
METHOD:PUBLISH
BEGIN:VEVENT
DTSTAMP:20260424T161414Z
DTSTART;TZID=America/New_York:20260518T090000
DTEND;TZID=America/New_York:20260518T170000
SUMMARY:Compositional Abduction and Scientific Interpretation Online Book Launch
UID:20260425T151859Z-iCalPlugin-Grails@philevents-web-6b96c54f56-bljdq
TZID:America/New_York
LOCATION:175 University Avenue
DESCRIPTION:<p>Online book launch for <em>Compositional Abduction and Scientific Interpretation</em>.</p>\n<p>The Philosophy Department of Rutgers University\, Newark is pleased to announce an online book launch for Ken Aizawa&rsquo\;s <em>Compositional Abduction and Scientific Interpretation</em>. The event will take place May 18\, 2026 from 9:00 am &ndash\; 12:00 pm EST. The event will feature the historians and philosophers of science Uljana Feest\, (Universit&auml\;t Hannover)\, Gualtiero Piccinini (University of Missouri\, Columbia)\, and Samuel Schindler (Aarhus University).</p>\n<p>Each commentator will offer a 30 minute commentary with a 15 minute response from Aizawa followed by 15 minutes of open Q&amp\;A. Anyone who would like to attend should email Ken Aizawa atken.aizaw@gmail.comto be included on the Zoom link invitation.</p>\n<p><em>Compositional Abduction and Scientific Interpretation </em>ishere freely available open access from Cambridge University Press.</p>\n<p>About the book</p>\n<p>Abductive reasoning is a form of inference that infers some hypothesis because of what that hypothesis explains. Unlike deductive reasoning\, it yields a plausible conclusion but does not definitively verify it. The theory of compositional abduction developed in this book provides a novel theory of confirmation. Kenneth Aizawa uses case studies to analyse how scientists interpret the results of experiments to support compositional hypotheses (i.e. hypotheses about what things are composed of) and suggests that they use a kind of abduction. His theory is offered as an alternative account of scientific reasoning that the logical empiricists would have interpreted as hypothetico-deductive confirmation. It is also an alternative to the Peircean interpretation of the role of abduction in science. It will be of interest to philosophers of science\, especially those working on hypothetico-deductive confirmation\, Peirce&rsquo\;s view of abduction\, inference to the best explanation\, and the New Mechanism.</p>
ORGANIZER;CN=Raffaella De Rosa;CN=Ken Aizawa:
METHOD:PUBLISH
END:VEVENT
END:VCALENDAR
