BEGIN:VCALENDAR
PRODID:-//Grails iCalendar plugin//NONSGML Grails iCalendar plugin//EN
VERSION:2.0
CALSCALE:GREGORIAN
METHOD:PUBLISH
BEGIN:VEVENT
DTSTAMP:20260425T205955Z
DTSTART;TZID=Europe/Madrid:20260503T100000
DTEND;TZID=Europe/Madrid:20260505T170000
SUMMARY:Knowledge\, Action\, and Competence (with symposium on Sosa's 'The Bounds of Knowledge')
UID:20260427T202857Z-iCalPlugin-Grails@philevents-web-6b96c54f56-bljdq
TZID:Europe/Madrid
LOCATION:Facultad de Filosofía\, Calle Camilo José Cela\, s/n\, Sevilla\, Spain\, 41018
DESCRIPTION:<p>Those interested may write to jmmpoyatos@gmail.com to receive the drafts that will be discussed during the symposium. Attendance is free until capacity is reached\, and everyone is invited to participate. We look forward to your presence.</p>
ORGANIZER;CN=Jesus Navarro;CN=J. Adam Carter;CN=Juanma Poyatos:
METHOD:PUBLISH
END:VEVENT
END:VCALENDAR
